BEGIN:VCALENDAR
VERSION:2.0
PRODID:-//UCLA Luskin Center for Innovation - ECPv6.15.16//NONSGML v1.0//EN
CALSCALE:GREGORIAN
METHOD:PUBLISH
X-WR-CALNAME:UCLA Luskin Center for Innovation
X-ORIGINAL-URL:https://innovation.luskin.ucla.edu
X-WR-CALDESC:Events for UCLA Luskin Center for Innovation
REFRESH-INTERVAL;VALUE=DURATION:PT1H
X-Robots-Tag:noindex
X-PUBLISHED-TTL:PT1H
BEGIN:VTIMEZONE
TZID:America/Los_Angeles
BEGIN:DAYLIGHT
TZOFFSETFROM:-0800
TZOFFSETTO:-0700
TZNAME:PDT
DTSTART:20180311T100000
END:DAYLIGHT
BEGIN:STANDARD
TZOFFSETFROM:-0700
TZOFFSETTO:-0800
TZNAME:PST
DTSTART:20181104T090000
END:STANDARD
BEGIN:DAYLIGHT
TZOFFSETFROM:-0800
TZOFFSETTO:-0700
TZNAME:PDT
DTSTART:20190310T100000
END:DAYLIGHT
BEGIN:STANDARD
TZOFFSETFROM:-0700
TZOFFSETTO:-0800
TZNAME:PST
DTSTART:20191103T090000
END:STANDARD
BEGIN:DAYLIGHT
TZOFFSETFROM:-0800
TZOFFSETTO:-0700
TZNAME:PDT
DTSTART:20200308T100000
END:DAYLIGHT
BEGIN:STANDARD
TZOFFSETFROM:-0700
TZOFFSETTO:-0800
TZNAME:PST
DTSTART:20201101T090000
END:STANDARD
END:VTIMEZONE
BEGIN:VEVENT
DTSTART;TZID=America/Los_Angeles:20190522T120000
DTEND;TZID=America/Los_Angeles:20190522T130000
DTSTAMP:20260425T093518
CREATED:20190507T195914Z
LAST-MODIFIED:20220511T185959Z
UID:10404-1558526400-1558530000@innovation.luskin.ucla.edu
SUMMARY:The Four Worlds of Carbon Politics: A Talk with Michael L. Ross\, UCLA Political Science
DESCRIPTION:RSVP HERE\nABOUT THE TALK: \nWhy have so few countries taken strong measures to reduce their greenhouse gas emissions? We develop a novel theory to explain variation in carbon policies across countries and over time\, based on the sectoral composition of a country’s economy and its position in the global economy. It suggests that the fossil fuel needs of four economic sectors – manufacturing\, services\, agriculture\, and minerals extraction – largely determine both a country’s policies on carbon emissions and the emissions themselves. As long as countries maintain the relative size of these sectors\, their carbon policies and emissions trajectories remain stable; when the mix of sectors changes\, their energy policies and carbon emissions also change. Our theory’s implications are grim: we should not expect countries to reform their carbon policies\, or curtail their fossil fuel consumption\, unless they undergo major economic restructuring. Empirically we validate the model by showing that a country’s sectoral composition is strongly associated with the best available measure of energy policies: gasoline taxes and subsidies in 157 countries from 2003 to 2015\, drawn from an original dataset. This may help explain why countries have been so slow to curtail their greenhouse gas emissions\, despite the catastrophic implications of climate change. \nABOUT THE SPEAKER: \nMichael L. Ross is Professor in the UCLA Department of Political Science and the Institute of the Environment and Sustainability. He is also the Executive Director and co-founder of the Project on Resources and Governance. Ross has published widely on the political and economic problems of resource-rich countries\, civil war\, democracy\, and gender rights. His most recent book\, The Oil Curse: How Petroleum Wealth Shapes the Development of Nations was translated into Arabic\, Russian\, Portuguese and Japanese and was named an “Outstanding Academic Title”by Choice magazine. He is also a Non-Resident Fellow at the Center for Global Development\, and serves on the editorial boards for World Politics and Comparative Political Studies\, the advisory boards of the Natural Resources Governance Institute and the Payne Institute and was previously a member of the US Extractive Industries Transparency Initiative’s Multi Stakeholder Group and the World Bank’s Extractive Industries Review. \nThis event is co-sponsored by the UCLA Burkle Center\, the UCLA Institute of the Environment and Sustainability and by the UCLA Luskin Center for Innovation.  \nEVENT PARKING: \nThe closest parking is located in Parking Structure 3. For Pay-by-Plate Parking\, park and then use a Pay Station to purchase parking. For a map and directions\, click here. \nSponsor(s): Burkle Center for International Relations\, Institute of the Environment and Sustainability\, UCLA Luskin School of Public Affairs
URL:https://innovation.luskin.ucla.edu/event/the-four-worlds-of-carbon-politics-a-talk-with-michael-l-ross-ucla-political-science/
LOCATION:UCLA Bunche Hall\, Room 10383\, 315 Portola Plaza\, Los Angeles\, CA\, 90095\, United States
ATTACH;FMTTYPE=image/jpeg:https://innovation.luskin.ucla.edu/wp-content/uploads/2019/05/Ross-headshot-large-0s-s1m.jpg
END:VEVENT
END:VCALENDAR