BEGIN:VCALENDAR
VERSION:2.0
PRODID:-//UCLA Luskin Center for Innovation - ECPv6.15.16//NONSGML v1.0//EN
CALSCALE:GREGORIAN
METHOD:PUBLISH
X-ORIGINAL-URL:https://innovation.luskin.ucla.edu
X-WR-CALDESC:Events for UCLA Luskin Center for Innovation
REFRESH-INTERVAL;VALUE=DURATION:PT1H
X-Robots-Tag:noindex
X-PUBLISHED-TTL:PT1H
BEGIN:VTIMEZONE
TZID:America/Los_Angeles
BEGIN:DAYLIGHT
TZOFFSETFROM:-0800
TZOFFSETTO:-0700
TZNAME:PDT
DTSTART:20190310T100000
END:DAYLIGHT
BEGIN:STANDARD
TZOFFSETFROM:-0700
TZOFFSETTO:-0800
TZNAME:PST
DTSTART:20191103T090000
END:STANDARD
BEGIN:DAYLIGHT
TZOFFSETFROM:-0800
TZOFFSETTO:-0700
TZNAME:PDT
DTSTART:20200308T100000
END:DAYLIGHT
BEGIN:STANDARD
TZOFFSETFROM:-0700
TZOFFSETTO:-0800
TZNAME:PST
DTSTART:20201101T090000
END:STANDARD
BEGIN:DAYLIGHT
TZOFFSETFROM:-0800
TZOFFSETTO:-0700
TZNAME:PDT
DTSTART:20210314T100000
END:DAYLIGHT
BEGIN:STANDARD
TZOFFSETFROM:-0700
TZOFFSETTO:-0800
TZNAME:PST
DTSTART:20211107T090000
END:STANDARD
END:VTIMEZONE
BEGIN:VEVENT
DTSTART;TZID=America/Los_Angeles:20200915T080000
DTEND;TZID=America/Los_Angeles:20200916T150000
DTSTAMP:20260423T000835
CREATED:20200821T233905Z
LAST-MODIFIED:20220511T185937Z
UID:12408-1600156800-1600268400@innovation.luskin.ucla.edu
SUMMARY:Net Zero 2020 Conference & Expo
DESCRIPTION:CLIMATE + CARBON + ENERGY + WATER + WASTE + TRANSIT\n\n\n\n\nThis year\, we’re bringing the Net Zero Conference to your living room! Join leaders in green at NZ20\, the world’s largest net zero building conference and a hub for thought-leaders and industry-shapers in Climate\, Carbon\, Energy\, Water\, Waste\, and Transit. Our best-in-class virtual platform goes above and beyond to inspire communication\, providing attendees with opportunities to engage and ask questions during sessions\, tours\, and networking events as well as in the Expo Hall — so we can inspire\, educate\, and evolve our built environment with the same energy we’ve always had. \nThis two-day event will feature exciting keynotes\, cutting-edge educational panels\, workshops from innovative leaders in sustainability like the International Living Future Institute and U.S. Green Building Council\, premium networking opportunities\, the annual Trailblazer Awards Ceremony\, and an interactive virtual expo hall featuring leading companies in our industry. \nCEUs will be available for AIA\, USGBC and LFA credential holders. \nVisit www.netzeroconference.com to learn more. \nThe UCLA Luskin Center for Innovation is a promotional partner.
URL:https://innovation.luskin.ucla.edu/event/net-zero-2020-conference-expo/
ATTACH;FMTTYPE=image/jpeg:https://innovation.luskin.ucla.edu/wp-content/uploads/2020/08/nezero.jpg
END:VEVENT
END:VCALENDAR