BEGIN:VCALENDAR
VERSION:2.0
PRODID:-//UCLA Luskin Center for Innovation - ECPv6.15.16//NONSGML v1.0//EN
CALSCALE:GREGORIAN
METHOD:PUBLISH
X-WR-CALNAME:UCLA Luskin Center for Innovation
X-ORIGINAL-URL:https://innovation.luskin.ucla.edu
X-WR-CALDESC:Events for UCLA Luskin Center for Innovation
REFRESH-INTERVAL;VALUE=DURATION:PT1H
X-Robots-Tag:noindex
X-PUBLISHED-TTL:PT1H
BEGIN:VTIMEZONE
TZID:America/Los_Angeles
BEGIN:DAYLIGHT
TZOFFSETFROM:-0800
TZOFFSETTO:-0700
TZNAME:PDT
DTSTART:20190310T100000
END:DAYLIGHT
BEGIN:STANDARD
TZOFFSETFROM:-0700
TZOFFSETTO:-0800
TZNAME:PST
DTSTART:20191103T090000
END:STANDARD
BEGIN:DAYLIGHT
TZOFFSETFROM:-0800
TZOFFSETTO:-0700
TZNAME:PDT
DTSTART:20200308T100000
END:DAYLIGHT
BEGIN:STANDARD
TZOFFSETFROM:-0700
TZOFFSETTO:-0800
TZNAME:PST
DTSTART:20201101T090000
END:STANDARD
BEGIN:DAYLIGHT
TZOFFSETFROM:-0800
TZOFFSETTO:-0700
TZNAME:PDT
DTSTART:20210314T100000
END:DAYLIGHT
BEGIN:STANDARD
TZOFFSETFROM:-0700
TZOFFSETTO:-0800
TZNAME:PST
DTSTART:20211107T090000
END:STANDARD
END:VTIMEZONE
BEGIN:VEVENT
DTSTART;TZID=America/Los_Angeles:20200921T090000
DTEND;TZID=America/Los_Angeles:20200921T200000
DTSTAMP:20260423T013818
CREATED:20200116T040228Z
LAST-MODIFIED:20220511T185937Z
UID:11662-1600678800-1600718400@innovation.luskin.ucla.edu
SUMMARY:Climate Adaptation Research Symposium 2020: Measuring and Addressing Societal Impacts
DESCRIPTION:View recordings from the symposium\nJoin us at this first-of-its-kind\, national symposium! The event will feature social science research that measures the scale and scope of climate impacts\, as well as how to address those impacts through adaptive markets\, public policies\, and planning. Learn more on the event webpage.\n\n\nAs global temperatures rise\, climate change is causing far-reaching impacts. Communities continue to experience extreme heat waves\, destructive wildfires\, and devastating floods and storms. Vulnerable and low-income populations feel these impacts the most. \nClimate change presents an unprecedented threat—however\, researchers are making progress to estimate the impacts of climate change on many aspects of society—health\, safety\, and wellbeing; migration; economic outputs and productivity—and to offer potential solutions. This arena of research offers a path forward to creating resilient communities and a society that can respond to rapidly changing environmental conditions. \nThis full-day symposium will highlight recent research measuring the impacts of climate change\, particularly on vulnerable populations and communities. The event will also include a parallel focus on strategies to address these impacts. It will foster cross-disciplinary dialogue between researchers and ultimately serve to improve our collective understanding of the climate adaptation research landscape; existing gaps; and how researchers can assist in informing adaptation and resiliency policies that are urgently needed. \nThe UCLA Luskin Center for Innovation acknowledges the Gabrielino/Tongva peoples as the traditional land caretakers of the Los Angeles basin and UCLA is grateful to be in service to the indigenous peoples of this area. \nThank you to our event sponsors\n \nThank you to our event partners
URL:https://innovation.luskin.ucla.edu/event/climate-adaptation-research-symposium-2020-measuring-and-addressing-societal-impacts/
LOCATION:Virtual Event
CATEGORIES:Webinar
ATTACH;FMTTYPE=image/jpeg:https://innovation.luskin.ucla.edu/wp-content/uploads/2020/07/Climate-Adaptation-Event-Banner2.jpg
END:VEVENT
END:VCALENDAR