BEGIN:VCALENDAR
VERSION:2.0
PRODID:-//UCLA Luskin Center for Innovation - ECPv6.15.16//NONSGML v1.0//EN
CALSCALE:GREGORIAN
METHOD:PUBLISH
X-ORIGINAL-URL:https://innovation.luskin.ucla.edu
X-WR-CALDESC:Events for UCLA Luskin Center for Innovation
REFRESH-INTERVAL;VALUE=DURATION:PT1H
X-Robots-Tag:noindex
X-PUBLISHED-TTL:PT1H
BEGIN:VTIMEZONE
TZID:America/Los_Angeles
BEGIN:DAYLIGHT
TZOFFSETFROM:-0800
TZOFFSETTO:-0700
TZNAME:PDT
DTSTART:20200308T100000
END:DAYLIGHT
BEGIN:STANDARD
TZOFFSETFROM:-0700
TZOFFSETTO:-0800
TZNAME:PST
DTSTART:20201101T090000
END:STANDARD
BEGIN:DAYLIGHT
TZOFFSETFROM:-0800
TZOFFSETTO:-0700
TZNAME:PDT
DTSTART:20210314T100000
END:DAYLIGHT
BEGIN:STANDARD
TZOFFSETFROM:-0700
TZOFFSETTO:-0800
TZNAME:PST
DTSTART:20211107T090000
END:STANDARD
BEGIN:DAYLIGHT
TZOFFSETFROM:-0800
TZOFFSETTO:-0700
TZNAME:PDT
DTSTART:20220313T100000
END:DAYLIGHT
BEGIN:STANDARD
TZOFFSETFROM:-0700
TZOFFSETTO:-0800
TZNAME:PST
DTSTART:20221106T090000
END:STANDARD
END:VTIMEZONE
BEGIN:VEVENT
DTSTART;TZID=America/Los_Angeles:20210226T090000
DTEND;TZID=America/Los_Angeles:20210226T143000
DTSTAMP:20260422T153731
CREATED:20210223T181641Z
LAST-MODIFIED:20220511T185935Z
UID:13633-1614330000-1614349800@innovation.luskin.ucla.edu
SUMMARY:UCLA Anderson Energy Innovation Conference 2021
DESCRIPTION:Register Here\nJoin CEOs and executives from the Environmental Defense Fund\, Microsoft\, Southern California Edison and other pioneering firms for a one-day virtual conference focused on reinventing the energy industry. \nUCLA Anderson’s annual Energy Innovation Conference brings together students and professionals to cover a range of topics including decarbonization\, grid modernization\, and a more equitable energy future for all. \nThe event will be virtual this year\, held on the Engagez conferencing platform. Attendance is free for all students. A $15 donation to Anderson’s Energy Management Group is suggested for alumni and industry professionals. \nView the program. \nThe UCLA Luskin Center for Innovation is proud to serve as a sponsor for the event.
URL:https://innovation.luskin.ucla.edu/event/ucla-anderson-energy-innovation-conference-2021/
LOCATION:Virtual Event
ATTACH;FMTTYPE=image/png:https://innovation.luskin.ucla.edu/wp-content/uploads/2021/02/energy-innovation-conference.png
END:VEVENT
END:VCALENDAR