BEGIN:VCALENDAR
VERSION:2.0
PRODID:-//UCLA Luskin Center for Innovation - ECPv6.15.16//NONSGML v1.0//EN
CALSCALE:GREGORIAN
METHOD:PUBLISH
X-WR-CALNAME:UCLA Luskin Center for Innovation
X-ORIGINAL-URL:https://innovation.luskin.ucla.edu
X-WR-CALDESC:Events for UCLA Luskin Center for Innovation
REFRESH-INTERVAL;VALUE=DURATION:PT1H
X-Robots-Tag:noindex
X-PUBLISHED-TTL:PT1H
BEGIN:VTIMEZONE
TZID:America/Los_Angeles
BEGIN:DAYLIGHT
TZOFFSETFROM:-0800
TZOFFSETTO:-0700
TZNAME:PDT
DTSTART:20200308T100000
END:DAYLIGHT
BEGIN:STANDARD
TZOFFSETFROM:-0700
TZOFFSETTO:-0800
TZNAME:PST
DTSTART:20201101T090000
END:STANDARD
BEGIN:DAYLIGHT
TZOFFSETFROM:-0800
TZOFFSETTO:-0700
TZNAME:PDT
DTSTART:20210314T100000
END:DAYLIGHT
BEGIN:STANDARD
TZOFFSETFROM:-0700
TZOFFSETTO:-0800
TZNAME:PST
DTSTART:20211107T090000
END:STANDARD
BEGIN:DAYLIGHT
TZOFFSETFROM:-0800
TZOFFSETTO:-0700
TZNAME:PDT
DTSTART:20220313T100000
END:DAYLIGHT
BEGIN:STANDARD
TZOFFSETFROM:-0700
TZOFFSETTO:-0800
TZNAME:PST
DTSTART:20221106T090000
END:STANDARD
END:VTIMEZONE
BEGIN:VEVENT
DTSTART;TZID=America/Los_Angeles:20210422T120000
DTEND;TZID=America/Los_Angeles:20210422T130000
DTSTAMP:20260422T084905
CREATED:20210310T161948Z
LAST-MODIFIED:20220406T212534Z
UID:14091-1619092800-1619096400@innovation.luskin.ucla.edu
SUMMARY:Plastic Pollution and Possible Solutions
DESCRIPTION:Register Here\nMore Info\nPlastic pollution has long been a problem affecting people and the planet’s health locally and globally. The recent upheaval in the global recycling and waste industry\, followed by the pandemic\, has deepened the challenges and  necessity for change. Why have existing policies failed us? California lawmakers and corporate leaders have taken and proposed innovative steps in recent years\, but are they enough?  \nA panel of policy\, corporate and academic leaders will discuss the need and strategies for a more closed loop\, less wasteful economy.\n \n\n\n\nWhat does corporate social responsibility around recycling and waste reduction look like in the absence of effective legislation? What is the responsibility of the private sector to address public interest more broadly? \nWhere are our recycling and composting policies headed? How could California policymakers advance a closed loop\, circular system approach? How would effective laws address both supply and demand for recyclables?\nA role for everyone: What is the role of plastic manufacturers and product distributors\, the broader private sector\, and the public at large to reduce waste? \n\n\n\nSPEAKERS\n\n\n\n\nCongressman Alan Lowenthal\, U.S. Representative\, California’s 47th Congressional District\n\nNoel Kinder\, Chief Sustainability Officer\, Nike\nRita Kampalath\, Sustainability Program Director\, Los Angeles County Chief Sustainability Office\nCharles Corbett\, Professor of Operations Management and Sustainability; IBM Chair in Management (moderator)\nDaniel Coffee\, Researcher\, UCLA Luskin Center for Innovation\n\n\n\nCO-HOSTS\n\n\n\nUCLA Impact@Anderson\nUCLA Luskin Center for Innovation\n\n\n\nRegister for Additional Sessions\nABOUT UCLA ANDERSON’S IMPACT WEEK\nThis webinar is part of UCLA Anderson’s Impact Week\, which celebrates our community’s commitment to creating a more equitable\, just\, and sustainable society. With a theme of “Power to Change\,” Impact Week 2021 will spotlight ideas\, practices\, and skills that business leaders need to change their organizations and industries in support of social justice\, economic inclusion\, environmental sustainability\, quality healthcare\, educational equity\, and other important global goals. \nImpact Week is organized by UCLA Anderson’s Impact@Anderson Center and the Net Impact MBA Chapter\, in collaboration with partners within the business school and across the broader UCLA community. The program is open to all students\, alumni\, prospective applicants\, industry professionals\, and the public.
URL:https://innovation.luskin.ucla.edu/event/plastic-pollution-and-possible-solutions-research-policy-and-corporate/
LOCATION:Virtual Event
ATTACH;FMTTYPE=image/jpeg:https://innovation.luskin.ucla.edu/wp-content/uploads/2021/03/covid-plastic.jpeg
END:VEVENT
END:VCALENDAR