BEGIN:VCALENDAR
VERSION:2.0
PRODID:-//UCLA Luskin Center for Innovation - ECPv6.15.16//NONSGML v1.0//EN
CALSCALE:GREGORIAN
METHOD:PUBLISH
X-WR-CALNAME:UCLA Luskin Center for Innovation
X-ORIGINAL-URL:https://innovation.luskin.ucla.edu
X-WR-CALDESC:Events for UCLA Luskin Center for Innovation
REFRESH-INTERVAL;VALUE=DURATION:PT1H
X-Robots-Tag:noindex
X-PUBLISHED-TTL:PT1H
BEGIN:VTIMEZONE
TZID:America/Los_Angeles
BEGIN:DAYLIGHT
TZOFFSETFROM:-0800
TZOFFSETTO:-0700
TZNAME:PDT
DTSTART:20200308T100000
END:DAYLIGHT
BEGIN:STANDARD
TZOFFSETFROM:-0700
TZOFFSETTO:-0800
TZNAME:PST
DTSTART:20201101T090000
END:STANDARD
BEGIN:DAYLIGHT
TZOFFSETFROM:-0800
TZOFFSETTO:-0700
TZNAME:PDT
DTSTART:20210314T100000
END:DAYLIGHT
BEGIN:STANDARD
TZOFFSETFROM:-0700
TZOFFSETTO:-0800
TZNAME:PST
DTSTART:20211107T090000
END:STANDARD
BEGIN:DAYLIGHT
TZOFFSETFROM:-0800
TZOFFSETTO:-0700
TZNAME:PDT
DTSTART:20220313T100000
END:DAYLIGHT
BEGIN:STANDARD
TZOFFSETFROM:-0700
TZOFFSETTO:-0800
TZNAME:PST
DTSTART:20221106T090000
END:STANDARD
END:VTIMEZONE
BEGIN:VEVENT
DTSTART;TZID=America/Los_Angeles:20210602T120000
DTEND;TZID=America/Los_Angeles:20210602T131500
DTSTAMP:20260422T022730
CREATED:20210524T204102Z
LAST-MODIFIED:20220406T212457Z
UID:15175-1622635200-1622639700@innovation.luskin.ucla.edu
SUMMARY:Environmental Health Equity: Moving from Evidence to Action
DESCRIPTION:Register here\nThis webinar is hosted by our partners at the California Initiative for Health Equity & Action and is cosponsored by the UCLA Luskin Center for Innovation. \nWildfires\, air toxins\, and various other environmental hazards disproportionately burden low-income communities of color and contribute to adverse health outcomes. Urgent action to address environmental inequities is necessary in order to improve community health. \nThis event will bring together environmental health researchers and community-based advocates to provide insights that can guide policy recommendations and advance environmental health equity. Speakers will discuss environmental justice as it relates to their research surrounding climate change\, air quality\, and prenatal exposures. \nSpeakers: \n\nAmy Padula\, Associate Professor\, University of California\, San Francisco School of Medicine\nCamila H. Alvarez\, PhD\, Assistant Professor of Sociology\, University of California\, Merced\nDr. Michael Méndez\, Assistant Professor of Environmental Planning and Policy\, University of California\, Irvine\nOmar Paz Jr.\, Lead Organizer\, North Bay Jobs with Justice
URL:https://innovation.luskin.ucla.edu/event/environmental-health-equity-moving-from-evidence-to-action/
LOCATION:Virtual Event
ATTACH;FMTTYPE=image/png:https://innovation.luskin.ucla.edu/wp-content/uploads/2021/05/promoting_environmental_health_equity_from_evidence_to_action-2.png
END:VEVENT
END:VCALENDAR