BEGIN:VCALENDAR
VERSION:2.0
PRODID:-//UCLA Luskin Center for Innovation - ECPv6.15.16//NONSGML v1.0//EN
CALSCALE:GREGORIAN
METHOD:PUBLISH
X-ORIGINAL-URL:https://innovation.luskin.ucla.edu
X-WR-CALDESC:Events for UCLA Luskin Center for Innovation
REFRESH-INTERVAL;VALUE=DURATION:PT1H
X-Robots-Tag:noindex
X-PUBLISHED-TTL:PT1H
BEGIN:VTIMEZONE
TZID:America/Los_Angeles
BEGIN:DAYLIGHT
TZOFFSETFROM:-0800
TZOFFSETTO:-0700
TZNAME:PDT
DTSTART:20200308T100000
END:DAYLIGHT
BEGIN:STANDARD
TZOFFSETFROM:-0700
TZOFFSETTO:-0800
TZNAME:PST
DTSTART:20201101T090000
END:STANDARD
BEGIN:DAYLIGHT
TZOFFSETFROM:-0800
TZOFFSETTO:-0700
TZNAME:PDT
DTSTART:20210314T100000
END:DAYLIGHT
BEGIN:STANDARD
TZOFFSETFROM:-0700
TZOFFSETTO:-0800
TZNAME:PST
DTSTART:20211107T090000
END:STANDARD
BEGIN:DAYLIGHT
TZOFFSETFROM:-0800
TZOFFSETTO:-0700
TZNAME:PDT
DTSTART:20220313T100000
END:DAYLIGHT
BEGIN:STANDARD
TZOFFSETFROM:-0700
TZOFFSETTO:-0800
TZNAME:PST
DTSTART:20221106T090000
END:STANDARD
END:VTIMEZONE
BEGIN:VEVENT
DTSTART;TZID=America/Los_Angeles:20210726T130000
DTEND;TZID=America/Los_Angeles:20210726T143000
DTSTAMP:20260421T232304
CREATED:20210716T164103Z
LAST-MODIFIED:20210716T164439Z
UID:15512-1627304400-1627309800@innovation.luskin.ucla.edu
SUMMARY:Ensuring That All Californians Have Access to Clean Transportation
DESCRIPTION:Register here\nHosted by our partners at the Coalition for Clean Air and featuring research from the Luskin Center for Innovation. \nAs California works to electrify passenger cars\, how do we ensure all Californians have access to clean transportation? While zero-emission cars reduce the long-term cost of ownership\, sticker shock discourages low-income consumers from ditching polluting\, gasoline-powered vehicles. \nCalifornia’s mobility equity program\, such as the Clean Cars 4 All program\, are important tools in addressing this challenge. Yet\, questions about the program’s effectiveness in serving disadvantaged communities and low-income residents have been raised. How much of this funding is going to disadvantaged communities? How do people sign up for the program\, or even learn about it? \nJoin us for a virtual webinar answering these questions and more. We will be talking with: \nEmilia Reyes\, CEO of the Fresno Economic Opportunities Commission\, on the need for an on-the-ground community outreach strategy and an intersectional strategy. \nGregory Pierce and Rachel Connolly\, UCLA Luskin Center for Innovation will present their recently published study on the Clean Cars 4 All program\, and how to make the program more equitable and effective in reaching disadvantaged communities. \nTransportation remains the leading source of climate-damaging and health-harming pollution. While California has committed itself to reducing greenhouse gas emissions\, improving air quality\, and deploying millions of electric vehicles over the next decade\, we must ensure clean transportation is accessible to all.
URL:https://innovation.luskin.ucla.edu/event/ensuring-that-all-californians-have-access-to-clean-transportation/
LOCATION:Virtual Event
ATTACH;FMTTYPE=image/png:https://innovation.luskin.ucla.edu/wp-content/uploads/2021/07/efmp-event.png
END:VEVENT
END:VCALENDAR