BEGIN:VCALENDAR
VERSION:2.0
PRODID:-//UCLA Luskin Center for Innovation - ECPv6.15.16//NONSGML v1.0//EN
CALSCALE:GREGORIAN
METHOD:PUBLISH
X-ORIGINAL-URL:https://innovation.luskin.ucla.edu
X-WR-CALDESC:Events for UCLA Luskin Center for Innovation
REFRESH-INTERVAL;VALUE=DURATION:PT1H
X-Robots-Tag:noindex
X-PUBLISHED-TTL:PT1H
BEGIN:VTIMEZONE
TZID:America/Los_Angeles
BEGIN:DAYLIGHT
TZOFFSETFROM:-0800
TZOFFSETTO:-0700
TZNAME:PDT
DTSTART:20200308T100000
END:DAYLIGHT
BEGIN:STANDARD
TZOFFSETFROM:-0700
TZOFFSETTO:-0800
TZNAME:PST
DTSTART:20201101T090000
END:STANDARD
BEGIN:DAYLIGHT
TZOFFSETFROM:-0800
TZOFFSETTO:-0700
TZNAME:PDT
DTSTART:20210314T100000
END:DAYLIGHT
BEGIN:STANDARD
TZOFFSETFROM:-0700
TZOFFSETTO:-0800
TZNAME:PST
DTSTART:20211107T090000
END:STANDARD
BEGIN:DAYLIGHT
TZOFFSETFROM:-0800
TZOFFSETTO:-0700
TZNAME:PDT
DTSTART:20220313T100000
END:DAYLIGHT
BEGIN:STANDARD
TZOFFSETFROM:-0700
TZOFFSETTO:-0800
TZNAME:PST
DTSTART:20221106T090000
END:STANDARD
END:VTIMEZONE
BEGIN:VEVENT
DTSTART;TZID=America/Los_Angeles:20210913T160000
DTEND;TZID=America/Los_Angeles:20210913T180000
DTSTAMP:20260421T162952
CREATED:20210827T154451Z
LAST-MODIFIED:20210827T154451Z
UID:15691-1631548800-1631556000@innovation.luskin.ucla.edu
SUMMARY:A Reception Honoring J.R. DeShazo
DESCRIPTION:Register\nMake a gift\nCome celebrate J.R.’s leadership as the Luskin Center for Innovation’s founding director\, his 24 years of service to UCLA and specifically the Department of Public Policy\, and his success in advancing a more environmentally sustainable and equitable city\, state\, and nation. \nWe will toast J.R. as he takes up his new post as dean of the LBJ School of Public Affairs at the University of Texas; hear from a few speakers including LCI’s visionary new co-directors\, Greg Pierce and Kelly Turner; and enjoy drinks and appetizers. \nAt this pivotal moment for climate action and environmental justice\, please consider honoring J.R. by joining him in making a donation toward environmental justice fellowships for students at the Luskin School of Public Affairs. A gift of any size supports first-generation college students\, students of color\, and classmates working with LCI and environmental justice organizations toward a more just and sustainable society. \nWant to leave a message for J.R.? Send him a note on our Kudoboard.
URL:https://innovation.luskin.ucla.edu/event/a-reception-honoring-j-r-deshazo/
LOCATION:UCLA Meyer and Renee Luskin Conference Center
ATTACH;FMTTYPE=image/png:https://innovation.luskin.ucla.edu/wp-content/uploads/2021/08/Email-header.png
END:VEVENT
END:VCALENDAR