BEGIN:VCALENDAR
VERSION:2.0
PRODID:-//UCLA Luskin Center for Innovation - ECPv6.15.16//NONSGML v1.0//EN
CALSCALE:GREGORIAN
METHOD:PUBLISH
X-WR-CALNAME:UCLA Luskin Center for Innovation
X-ORIGINAL-URL:https://innovation.luskin.ucla.edu
X-WR-CALDESC:Events for UCLA Luskin Center for Innovation
REFRESH-INTERVAL;VALUE=DURATION:PT1H
X-Robots-Tag:noindex
X-PUBLISHED-TTL:PT1H
BEGIN:VTIMEZONE
TZID:America/Los_Angeles
BEGIN:DAYLIGHT
TZOFFSETFROM:-0800
TZOFFSETTO:-0700
TZNAME:PDT
DTSTART:20200308T100000
END:DAYLIGHT
BEGIN:STANDARD
TZOFFSETFROM:-0700
TZOFFSETTO:-0800
TZNAME:PST
DTSTART:20201101T090000
END:STANDARD
BEGIN:DAYLIGHT
TZOFFSETFROM:-0800
TZOFFSETTO:-0700
TZNAME:PDT
DTSTART:20210314T100000
END:DAYLIGHT
BEGIN:STANDARD
TZOFFSETFROM:-0700
TZOFFSETTO:-0800
TZNAME:PST
DTSTART:20211107T090000
END:STANDARD
BEGIN:DAYLIGHT
TZOFFSETFROM:-0800
TZOFFSETTO:-0700
TZNAME:PDT
DTSTART:20220313T100000
END:DAYLIGHT
BEGIN:STANDARD
TZOFFSETFROM:-0700
TZOFFSETTO:-0800
TZNAME:PST
DTSTART:20221106T090000
END:STANDARD
END:VTIMEZONE
BEGIN:VEVENT
DTSTART;TZID=America/Los_Angeles:20211109T170000
DTEND;TZID=America/Los_Angeles:20211109T180000
DTSTAMP:20260421T113202
CREATED:20211104T163907Z
LAST-MODIFIED:20211213T233952Z
UID:16055-1636477200-1636480800@innovation.luskin.ucla.edu
SUMMARY:Engineering in Action: Water Equity
DESCRIPTION:Register here\nHosted by our partners at UCLA Samueli. \n\nUCLA Samueli and the National Society of Black Engineers (NSBE) at UCLA invite you to Engineering in Action: Water Equity. Ask our expert panelists about equitable access to safe\, reliable\, and clean water. Learn about the new technologies being developed to address water contamination\, the next era of our ageing water infrastructure\, and the policies that can protect the human right to water. \nPANELISTS:\nEvelyn Cortez-Davis\, P.E.\, BCEE\nDirector\, Water Engineering and Technical Services\nLos Angeles Department of Water and Power (LADWP) \nShaily Mahendra\, Ph.D.\nProfessor\, Civil and Environmental Engineering\nUCLA Samueli School of Engineering \nGregory Pierce\, Ph.D.\nCo-Director\, UCLA Luskin Center for Innovation\nCo-Director\, Water Resources Group\nUCLA Institute of the Environment and Sustainability \nFor inquiries\, please contact hsseasevents@support.ucla.edu
URL:https://innovation.luskin.ucla.edu/event/engineering-in-action-water-equity/
LOCATION:Virtual Event
ATTACH;FMTTYPE=image/jpeg:https://innovation.luskin.ucla.edu/wp-content/uploads/2021/11/water-engineering.jpg
END:VEVENT
END:VCALENDAR