BEGIN:VCALENDAR
VERSION:2.0
PRODID:-//UCLA Luskin Center for Innovation - ECPv6.15.16//NONSGML v1.0//EN
CALSCALE:GREGORIAN
METHOD:PUBLISH
X-ORIGINAL-URL:https://innovation.luskin.ucla.edu
X-WR-CALDESC:Events for UCLA Luskin Center for Innovation
REFRESH-INTERVAL;VALUE=DURATION:PT1H
X-Robots-Tag:noindex
X-PUBLISHED-TTL:PT1H
BEGIN:VTIMEZONE
TZID:America/Los_Angeles
BEGIN:DAYLIGHT
TZOFFSETFROM:-0800
TZOFFSETTO:-0700
TZNAME:PDT
DTSTART:20210314T100000
END:DAYLIGHT
BEGIN:STANDARD
TZOFFSETFROM:-0700
TZOFFSETTO:-0800
TZNAME:PST
DTSTART:20211107T090000
END:STANDARD
BEGIN:DAYLIGHT
TZOFFSETFROM:-0800
TZOFFSETTO:-0700
TZNAME:PDT
DTSTART:20220313T100000
END:DAYLIGHT
BEGIN:STANDARD
TZOFFSETFROM:-0700
TZOFFSETTO:-0800
TZNAME:PST
DTSTART:20221106T090000
END:STANDARD
BEGIN:DAYLIGHT
TZOFFSETFROM:-0800
TZOFFSETTO:-0700
TZNAME:PDT
DTSTART:20230312T100000
END:DAYLIGHT
BEGIN:STANDARD
TZOFFSETFROM:-0700
TZOFFSETTO:-0800
TZNAME:PST
DTSTART:20231105T090000
END:STANDARD
END:VTIMEZONE
BEGIN:VEVENT
DTSTART;TZID=America/Los_Angeles:20220519T163000
DTEND;TZID=America/Los_Angeles:20220519T180000
DTSTAMP:20260419T052830
CREATED:20220413T205117Z
LAST-MODIFIED:20220418T160833Z
UID:17340-1652977800-1652983200@innovation.luskin.ucla.edu
SUMMARY:Achieving Community-Centered Water Quality Justice in California
DESCRIPTION:Register\nHosted by our partners at the UCLA Water Resources Group  \nWhile California is the only U.S. state to legally recognize a human right to safe\, clean\, affordable and accessible water\, this goal is not a reality for many. This UCLA Water Resources Group panel discussion will feature the interdisciplinary perspectives of UCLA researchers and partner advocacy organizations in centering community priorities and expertise in water quality research partnerships and policy\, both in California and Los Angeles specifically. The webinar will highlight both recent\, novel research which has informed Human Right to Water policy progress\, as well as persistent gaps. Researchers and community organizations who advocate for disadvantaged water system residents will share their experiences. \nSpeakers: \n\nLara Cushing\, Assistant Professor and Jonathan and Karin Fielding Presidential Chair in Health Equity\, UCLA School of Public Health\nKristin Dobbin\, Postdoctoral Fellow\, UCLA Luskin Center for Innovation\nSilvia R. González (moderator)\, Director of Research\, UCLA Latino Politics & Politics Initiative\nMichael Rincon– Research and Policy Manager\, Physicians for Social Responsibility-LA and State Water Resources Control Board SAFER Advisory Group\nGreg Pierce\, Co-Director\, UCLA Luskin Center for Innovation
URL:https://innovation.luskin.ucla.edu/event/achieving-community-centered-water-quality-justice-in-california/
LOCATION:Zoom Webinar
ATTACH;FMTTYPE=image/jpeg:https://innovation.luskin.ucla.edu/wp-content/uploads/2022/04/Webinar_Event.jpeg
END:VEVENT
END:VCALENDAR