BEGIN:VCALENDAR
VERSION:2.0
PRODID:-//UCLA Luskin Center for Innovation - ECPv6.15.16//NONSGML v1.0//EN
CALSCALE:GREGORIAN
METHOD:PUBLISH
X-ORIGINAL-URL:https://innovation.luskin.ucla.edu
X-WR-CALDESC:Events for UCLA Luskin Center for Innovation
REFRESH-INTERVAL;VALUE=DURATION:PT1H
X-Robots-Tag:noindex
X-PUBLISHED-TTL:PT1H
BEGIN:VTIMEZONE
TZID:America/Los_Angeles
BEGIN:DAYLIGHT
TZOFFSETFROM:-0800
TZOFFSETTO:-0700
TZNAME:PDT
DTSTART:20210314T100000
END:DAYLIGHT
BEGIN:STANDARD
TZOFFSETFROM:-0700
TZOFFSETTO:-0800
TZNAME:PST
DTSTART:20211107T090000
END:STANDARD
BEGIN:DAYLIGHT
TZOFFSETFROM:-0800
TZOFFSETTO:-0700
TZNAME:PDT
DTSTART:20220313T100000
END:DAYLIGHT
BEGIN:STANDARD
TZOFFSETFROM:-0700
TZOFFSETTO:-0800
TZNAME:PST
DTSTART:20221106T090000
END:STANDARD
BEGIN:DAYLIGHT
TZOFFSETFROM:-0800
TZOFFSETTO:-0700
TZNAME:PDT
DTSTART:20230312T100000
END:DAYLIGHT
BEGIN:STANDARD
TZOFFSETFROM:-0700
TZOFFSETTO:-0800
TZNAME:PST
DTSTART:20231105T090000
END:STANDARD
END:VTIMEZONE
BEGIN:VEVENT
DTSTART;TZID=America/Los_Angeles:20220711T130000
DTEND;TZID=America/Los_Angeles:20220711T140000
DTSTAMP:20260419T085137
CREATED:20220630T203114Z
LAST-MODIFIED:20220630T203114Z
UID:17931-1657544400-1657548000@innovation.luskin.ucla.edu
SUMMARY:Healthy Place Index: Extreme Heat Edition - Demo Webinar
DESCRIPTION:Learn more about our new online mapping tool\, which helps the state prepare for extreme heat. \nThe California Healthy Places Index (HPI): Heat Edition helps the state ramp up its efforts to prepare for rising temperatures — visualizing where and who will be most affected in the coming decades. It was developed through a joint partnership between the UCLA Luskin Center for Innovation and Public Health Alliance of Southern California. \nDuring our demo event\, we’ll walk through the unique capabilities of the tool and showcase how it can provide practical information for a variety of users\, like state agencies\, nonprofit organizations and households.
URL:https://innovation.luskin.ucla.edu/event/healthy-place-index-extreme-heat-edition-demo-webinar/
LOCATION:Virtual Event
ATTACH;FMTTYPE=image/png:https://innovation.luskin.ucla.edu/wp-content/uploads/2022/06/healthy-places-index-map-1000x500-1.png
END:VEVENT
END:VCALENDAR