BEGIN:VCALENDAR
VERSION:2.0
PRODID:-//UCLA Luskin Center for Innovation - ECPv6.15.16//NONSGML v1.0//EN
CALSCALE:GREGORIAN
METHOD:PUBLISH
X-ORIGINAL-URL:https://innovation.luskin.ucla.edu
X-WR-CALDESC:Events for UCLA Luskin Center for Innovation
REFRESH-INTERVAL;VALUE=DURATION:PT1H
X-Robots-Tag:noindex
X-PUBLISHED-TTL:PT1H
BEGIN:VTIMEZONE
TZID:America/Los_Angeles
BEGIN:DAYLIGHT
TZOFFSETFROM:-0800
TZOFFSETTO:-0700
TZNAME:PDT
DTSTART:20210314T100000
END:DAYLIGHT
BEGIN:STANDARD
TZOFFSETFROM:-0700
TZOFFSETTO:-0800
TZNAME:PST
DTSTART:20211107T090000
END:STANDARD
BEGIN:DAYLIGHT
TZOFFSETFROM:-0800
TZOFFSETTO:-0700
TZNAME:PDT
DTSTART:20220313T100000
END:DAYLIGHT
BEGIN:STANDARD
TZOFFSETFROM:-0700
TZOFFSETTO:-0800
TZNAME:PST
DTSTART:20221106T090000
END:STANDARD
BEGIN:DAYLIGHT
TZOFFSETFROM:-0800
TZOFFSETTO:-0700
TZNAME:PDT
DTSTART:20230312T100000
END:DAYLIGHT
BEGIN:STANDARD
TZOFFSETFROM:-0700
TZOFFSETTO:-0800
TZNAME:PST
DTSTART:20231105T090000
END:STANDARD
END:VTIMEZONE
BEGIN:VEVENT
DTSTART;TZID=America/Los_Angeles:20221101T090000
DTEND;TZID=America/Los_Angeles:20221101T140000
DTSTAMP:20260419T135403
CREATED:20221020T212556Z
LAST-MODIFIED:20221026T201428Z
UID:18892-1667293200-1667311200@innovation.luskin.ucla.edu
SUMMARY:Water Science and Technology Board Fall 2022 Meeting
DESCRIPTION:Register\n\nOne out of every 10 Americans are exposed to drinking water quality violations in the U.S. Further\, many communities (especially in rural and poor areas) do not have access to enough water of adequate quality to meet their needs. Even where people have access to safe water\, there is the question of affordability. The WSTB is convening a meeting to consider these 3 aspects of adequate drinking water provision: safety\, access\, and affordability. Invited speakers will consider what technical and institutional solutions can be deployed over the long term to ensure that every American has adequate drinking water. \n\n\n\n\nThis event is public and will be available for remote attendance via webcast. \n\n\nVisit the event page for additional details and the meeting agenda.
URL:https://innovation.luskin.ucla.edu/event/water-science-and-technology-board-fall-2022-meeting/
LOCATION:In-Person and Virtual Options\, 308 Westwood Plaza\, Los Angeles\, CA\, 90095\, United States
ATTACH;FMTTYPE=image/png:https://innovation.luskin.ucla.edu/wp-content/uploads/2022/10/National-academies-drinking-water-services-825x321-1.png
END:VEVENT
END:VCALENDAR