BEGIN:VCALENDAR
VERSION:2.0
PRODID:-//UCLA Luskin Center for Innovation - ECPv6.15.16//NONSGML v1.0//EN
CALSCALE:GREGORIAN
METHOD:PUBLISH
X-ORIGINAL-URL:https://innovation.luskin.ucla.edu
X-WR-CALDESC:Events for UCLA Luskin Center for Innovation
REFRESH-INTERVAL;VALUE=DURATION:PT1H
X-Robots-Tag:noindex
X-PUBLISHED-TTL:PT1H
BEGIN:VTIMEZONE
TZID:America/Los_Angeles
BEGIN:DAYLIGHT
TZOFFSETFROM:-0800
TZOFFSETTO:-0700
TZNAME:PDT
DTSTART:20210314T100000
END:DAYLIGHT
BEGIN:STANDARD
TZOFFSETFROM:-0700
TZOFFSETTO:-0800
TZNAME:PST
DTSTART:20211107T090000
END:STANDARD
BEGIN:DAYLIGHT
TZOFFSETFROM:-0800
TZOFFSETTO:-0700
TZNAME:PDT
DTSTART:20220313T100000
END:DAYLIGHT
BEGIN:STANDARD
TZOFFSETFROM:-0700
TZOFFSETTO:-0800
TZNAME:PST
DTSTART:20221106T090000
END:STANDARD
BEGIN:DAYLIGHT
TZOFFSETFROM:-0800
TZOFFSETTO:-0700
TZNAME:PDT
DTSTART:20230312T100000
END:DAYLIGHT
BEGIN:STANDARD
TZOFFSETFROM:-0700
TZOFFSETTO:-0800
TZNAME:PST
DTSTART:20231105T090000
END:STANDARD
END:VTIMEZONE
BEGIN:VEVENT
DTSTART;TZID=America/Los_Angeles:20221116T100000
DTEND;TZID=America/Los_Angeles:20221116T110000
DTSTAMP:20260419T185827
CREATED:20221103T175325Z
LAST-MODIFIED:20221103T175325Z
UID:18928-1668592800-1668596400@innovation.luskin.ucla.edu
SUMMARY:Realizing Park Equity: Improving How Federal Funds Reach Communities That Can Most Benefit
DESCRIPTION:Register\nTo expand access to parks nationwide\, the Outdoor Recreation Legacy Partnership (ORLP) Program funds green spaces in low-income\, urban communities. While the program has supported important projects throughout the country\, program benefits could be more fully realized. For instance\, millions of grant dollars have been left on the table in recent years. Since funding for ORLP is expected to increase in the coming years\, the program can be an increasingly important resource for underserved communities. \nThis webinar will explore successes of the ORLP Program and illustrate opportunities to strengthen its impact. The discussion will feature a panel of park advocates and agency representatives\, and share findings from our recent research. \nHosted by The Wilderness Society and the UCLA Luskin Center for Innovation. \nPanelists include:\n\nHeather Ramsay Ahndan\, Program Manager\, King County Natural Resources and Parks\, Land Conservation Initiative\nKitty Craig\, Urban to Wild Director\, The Wilderness Society (Moderator)\nAriana Hernandez\, Associate Project Manager\, UCLA Luskin Center for Innovation\nSedrick Mitchell\, Deputy Director of External Affairs\, California State Parks\nJulie Waterman\, Advocacy Director\, City Parks Alliance
URL:https://innovation.luskin.ucla.edu/event/realizing-park-equity-improving-how-federal-funds-reach-communities-that-can-most-benefit/
LOCATION:Virtual Event
ATTACH;FMTTYPE=image/png:https://innovation.luskin.ucla.edu/wp-content/uploads/2022/11/realizing-park-equity-banner-854x321-1.png
END:VEVENT
END:VCALENDAR