BEGIN:VCALENDAR
VERSION:2.0
PRODID:-//UCLA Luskin Center for Innovation - ECPv6.15.16//NONSGML v1.0//EN
CALSCALE:GREGORIAN
METHOD:PUBLISH
X-WR-CALNAME:UCLA Luskin Center for Innovation
X-ORIGINAL-URL:https://innovation.luskin.ucla.edu
X-WR-CALDESC:Events for UCLA Luskin Center for Innovation
REFRESH-INTERVAL;VALUE=DURATION:PT1H
X-Robots-Tag:noindex
X-PUBLISHED-TTL:PT1H
BEGIN:VTIMEZONE
TZID:America/Los_Angeles
BEGIN:DAYLIGHT
TZOFFSETFROM:-0800
TZOFFSETTO:-0700
TZNAME:PDT
DTSTART:20210314T100000
END:DAYLIGHT
BEGIN:STANDARD
TZOFFSETFROM:-0700
TZOFFSETTO:-0800
TZNAME:PST
DTSTART:20211107T090000
END:STANDARD
BEGIN:DAYLIGHT
TZOFFSETFROM:-0800
TZOFFSETTO:-0700
TZNAME:PDT
DTSTART:20220313T100000
END:DAYLIGHT
BEGIN:STANDARD
TZOFFSETFROM:-0700
TZOFFSETTO:-0800
TZNAME:PST
DTSTART:20221106T090000
END:STANDARD
BEGIN:DAYLIGHT
TZOFFSETFROM:-0800
TZOFFSETTO:-0700
TZNAME:PDT
DTSTART:20230312T100000
END:DAYLIGHT
BEGIN:STANDARD
TZOFFSETFROM:-0700
TZOFFSETTO:-0800
TZNAME:PST
DTSTART:20231105T090000
END:STANDARD
END:VTIMEZONE
BEGIN:VEVENT
DTSTART;TZID=America/Los_Angeles:20221117T123000
DTEND;TZID=America/Los_Angeles:20221117T140000
DTSTAMP:20260419T203757
CREATED:20221017T180913Z
LAST-MODIFIED:20221115T202603Z
UID:18818-1668688200-1668693600@innovation.luskin.ucla.edu
SUMMARY:Lunch on Luskin: UCLA Luskin Center for Innovation
DESCRIPTION:THIS EVENT HAS BEEN CANCELLED.\nCalling all students interested in environmental sustainability! Join us for a free\, cross-campus networking reception hosted by the UCLA Luskin Center for Innovation and the UCLA Luskin School of Public Affairs. \nLearn about environmental organizations\, student funding opportunities\, and jobs and internships while getting to know your peers across campus. \nRSVP IS REQUIRED. Lunch will be provided on a first-come\, first-served basis. \nUCLA Collaborators: \n\nCenter for Healthy Climate Solutions\nCenter for Impact @ Anderson\nEaston Technology Management Center\nEmmett Institute on Climate Change and the Environment\nGraduate Student Water Resources Group\nInstitute of the Environment and Sustainability\nSustainability\nSustainable LA Grand Challenge
URL:https://innovation.luskin.ucla.edu/event/lunch-on-luskin-ucla-luskin-center-for-innovation/
LOCATION:UCLA Luskin School of Public Affairs\, 3rd Floor Terrace\n              \n        337 Charles E Young Dr. East              \n              Los Angeles\,               CA\n              90095\, United States
ATTACH;FMTTYPE=image/png:https://innovation.luskin.ucla.edu/wp-content/uploads/2022/10/envi-student-mixer-2022-event.png
END:VEVENT
END:VCALENDAR