BEGIN:VCALENDAR
VERSION:2.0
PRODID:-//UCLA Luskin Center for Innovation - ECPv6.15.16//NONSGML v1.0//EN
CALSCALE:GREGORIAN
METHOD:PUBLISH
X-ORIGINAL-URL:https://innovation.luskin.ucla.edu
X-WR-CALDESC:Events for UCLA Luskin Center for Innovation
REFRESH-INTERVAL;VALUE=DURATION:PT1H
X-Robots-Tag:noindex
X-PUBLISHED-TTL:PT1H
BEGIN:VTIMEZONE
TZID:America/Los_Angeles
BEGIN:DAYLIGHT
TZOFFSETFROM:-0800
TZOFFSETTO:-0700
TZNAME:PDT
DTSTART:20220313T100000
END:DAYLIGHT
BEGIN:STANDARD
TZOFFSETFROM:-0700
TZOFFSETTO:-0800
TZNAME:PST
DTSTART:20221106T090000
END:STANDARD
BEGIN:DAYLIGHT
TZOFFSETFROM:-0800
TZOFFSETTO:-0700
TZNAME:PDT
DTSTART:20230312T100000
END:DAYLIGHT
BEGIN:STANDARD
TZOFFSETFROM:-0700
TZOFFSETTO:-0800
TZNAME:PST
DTSTART:20231105T090000
END:STANDARD
BEGIN:DAYLIGHT
TZOFFSETFROM:-0800
TZOFFSETTO:-0700
TZNAME:PDT
DTSTART:20240310T100000
END:DAYLIGHT
BEGIN:STANDARD
TZOFFSETFROM:-0700
TZOFFSETTO:-0800
TZNAME:PST
DTSTART:20241103T090000
END:STANDARD
END:VTIMEZONE
BEGIN:VEVENT
DTSTART;TZID=America/Los_Angeles:20231212T110000
DTEND;TZID=America/Los_Angeles:20231212T120000
DTSTAMP:20260421T082217
CREATED:20231128T212608Z
LAST-MODIFIED:20231213T200019Z
UID:22118-1702378800-1702382400@innovation.luskin.ucla.edu
SUMMARY:Protecting Student Health and Learning with Heat-Resilient Schools
DESCRIPTION:This event has passed. Access the recording here. \nThe UCLA Luskin Center for Innovation\, Ten Strands\, and Undaunted K12 invite you to a Virtual Policy Forum: Protecting Student Health and Learning with Heat-Resilient Schools. Come learn about the impacts of extreme heat on our students and school communities\, understand evidence-based strategies for heat-resilient schools\, and gather ideas for impactful policy opportunities in California and beyond. \nExtreme heat is a growing problem for California’s schools. Classroom and school yard temperatures can reach unhealthy levels and prevent students from learning\, playing\, and thriving on hot days. This is especially a problem in certain school districts\, as illustrated in a heat mapping tool created by the Public Health Alliance of Southern California and the UCLA Luskin Center for Innovation (LCI). Dr. Kelly Turner of LCI will be presenting on her research\, policy brief\, and factsheets that detail solutions for protecting Californians with heat-resilient schools. \nMeanwhile\, new federal funding from the Inflation Reduction Act is available to help schools adapt to extreme heat. Sara Ross from UndauntedK12 will be sharing about how school districts can leverage these uncapped funds to bring in millions of dollars for ground source heat pump HVAC systems and microgrid systems (solar + storage). Both of these options are critical components of extreme heat adaptation in schools while ensuring schools can mitigate the root cause by decarbonizing their infrastructure. \nFinally\, Jonathan Klein from UndauntedK12 will be sharing other ideas legislators\, legislative staff\, and agency leaders should consider to adapt to and mitigate extreme heat at schools. Andra Yeghoian from Ten Strands will be moderating this exciting conversation.
URL:https://innovation.luskin.ucla.edu/event/protecting-student-health-and-learning-with-heat-resilient-schools/
LOCATION:Zoom Webinar
ATTACH;FMTTYPE=image/jpeg:https://innovation.luskin.ucla.edu/wp-content/uploads/2023/11/Virtual-Policy-Forum.jpeg
END:VEVENT
END:VCALENDAR