BEGIN:VCALENDAR
VERSION:2.0
PRODID:-//UCLA Luskin Center for Innovation - ECPv6.15.16//NONSGML v1.0//EN
CALSCALE:GREGORIAN
METHOD:PUBLISH
X-WR-CALNAME:UCLA Luskin Center for Innovation
X-ORIGINAL-URL:https://innovation.luskin.ucla.edu
X-WR-CALDESC:Events for UCLA Luskin Center for Innovation
REFRESH-INTERVAL;VALUE=DURATION:PT1H
X-Robots-Tag:noindex
X-PUBLISHED-TTL:PT1H
BEGIN:VTIMEZONE
TZID:America/Los_Angeles
BEGIN:DAYLIGHT
TZOFFSETFROM:-0800
TZOFFSETTO:-0700
TZNAME:PDT
DTSTART:20230312T100000
END:DAYLIGHT
BEGIN:STANDARD
TZOFFSETFROM:-0700
TZOFFSETTO:-0800
TZNAME:PST
DTSTART:20231105T090000
END:STANDARD
BEGIN:DAYLIGHT
TZOFFSETFROM:-0800
TZOFFSETTO:-0700
TZNAME:PDT
DTSTART:20240310T100000
END:DAYLIGHT
BEGIN:STANDARD
TZOFFSETFROM:-0700
TZOFFSETTO:-0800
TZNAME:PST
DTSTART:20241103T090000
END:STANDARD
BEGIN:DAYLIGHT
TZOFFSETFROM:-0800
TZOFFSETTO:-0700
TZNAME:PDT
DTSTART:20250309T100000
END:DAYLIGHT
BEGIN:STANDARD
TZOFFSETFROM:-0700
TZOFFSETTO:-0800
TZNAME:PST
DTSTART:20251102T090000
END:STANDARD
END:VTIMEZONE
BEGIN:VEVENT
DTSTART;TZID=America/Los_Angeles:20240207T130000
DTEND;TZID=America/Los_Angeles:20240207T143000
DTSTAMP:20260421T003614
CREATED:20240125T234309Z
LAST-MODIFIED:20240126T205459Z
UID:22595-1707310800-1707316200@innovation.luskin.ucla.edu
SUMMARY:Dr. Khalid Osman Lecture: Operationalization of Equity in the Drinking Water Sector
DESCRIPTION:Please RSVP to the event here. \nJoin us at the Luskin School of Public Affairs for an engaging talk on “System Consolidations and the Operationalization of Equity in the Drinking Water Sector” presented by Dr. Khalid Osman\, an Assistant Professor of Civil and Environmental Engineering at Stanford University. Dr. Osman\, who completed his Ph.D. at the University of Texas in 2022\, will discuss his recent work on water system consolidation\, broader equity metrics analysis in the U.S.\, and the operationalization of equity in water sector infrastructure. This talk is a must-attend for those interested in decentralized water and sanitation systems\, water affordability\, and the role of stakeholder-community engagement in building sustainable civil infrastructure for environmental justice. \nAdditional Details: \n\nLunch will be served. Please RSVP at the registration link to confirm your seat.\nFor any questions regarding the event\, please contact wrgucla@gmail.com.
URL:https://innovation.luskin.ucla.edu/event/dr-khalid-osman-lecture-operationalization-of-equity-in-the-drinking-water-sector/
LOCATION:Room 4537\, UCLA Luskin School of Public Affairs\, 337 Charles E Young Drive East\, Los Angeles\, CA 90095
ATTACH;FMTTYPE=image/jpeg:https://innovation.luskin.ucla.edu/wp-content/uploads/2024/01/Khalid-Osman.jpg
END:VEVENT
END:VCALENDAR