BEGIN:VCALENDAR
VERSION:2.0
PRODID:-//UCLA Luskin Center for Innovation - ECPv6.15.16//NONSGML v1.0//EN
CALSCALE:GREGORIAN
METHOD:PUBLISH
X-ORIGINAL-URL:https://innovation.luskin.ucla.edu
X-WR-CALDESC:Events for UCLA Luskin Center for Innovation
REFRESH-INTERVAL;VALUE=DURATION:PT1H
X-Robots-Tag:noindex
X-PUBLISHED-TTL:PT1H
BEGIN:VTIMEZONE
TZID:America/Los_Angeles
BEGIN:DAYLIGHT
TZOFFSETFROM:-0800
TZOFFSETTO:-0700
TZNAME:PDT
DTSTART:20230312T100000
END:DAYLIGHT
BEGIN:STANDARD
TZOFFSETFROM:-0700
TZOFFSETTO:-0800
TZNAME:PST
DTSTART:20231105T090000
END:STANDARD
BEGIN:DAYLIGHT
TZOFFSETFROM:-0800
TZOFFSETTO:-0700
TZNAME:PDT
DTSTART:20240310T100000
END:DAYLIGHT
BEGIN:STANDARD
TZOFFSETFROM:-0700
TZOFFSETTO:-0800
TZNAME:PST
DTSTART:20241103T090000
END:STANDARD
BEGIN:DAYLIGHT
TZOFFSETFROM:-0800
TZOFFSETTO:-0700
TZNAME:PDT
DTSTART:20250309T100000
END:DAYLIGHT
BEGIN:STANDARD
TZOFFSETFROM:-0700
TZOFFSETTO:-0800
TZNAME:PST
DTSTART:20251102T090000
END:STANDARD
END:VTIMEZONE
BEGIN:VEVENT
DTSTART;TZID=America/Los_Angeles:20240214T090000
DTEND;TZID=America/Los_Angeles:20240214T123000
DTSTAMP:20260421T035545
CREATED:20240126T210654Z
LAST-MODIFIED:20240126T210654Z
UID:22621-1707901200-1707913800@innovation.luskin.ucla.edu
SUMMARY:Transformative Action: UCLA Luskin at UC Center Sacramento
DESCRIPTION:UCLA Luskin takes pride in helping to improve society through undergraduate and graduate education in the fields of public policy\, social welfare and urban planning. We hope that our research can also help drive transformative action that produces policy solutions for California. To further this effort\, the School will present its inaugural UCLA Luskin Briefing at the UC Center Sacramento on Feb. 14\, 2024. \nUCLA FACULTY PRESENTATIONS:  \nChanging How — and Where — Californians Get Their Water: UCLA Luskin researchers have examined which strategies work best for cities coping with dwindling water resources amid climate change. Research efforts that analyze water policy in six major metropolitan areas can guide legislators toward the best decisions on major statewide investments as California transitions from reliance on imported water to increased usage of nontraditional sources like recycled water\, stormwater collection and desalination. Presented by Greg Pierce\, adjunct associate professor of urban panning; co-executive director of the UCLA Luskin Center for Innovation \nResponding to Homelessness Through Land Use and Zoning Policy: A Fair Housing Land Use Score developed at UCLA measures the extent to which local regulations promote inclusion across neighborhoods. The Southern California scorecard shows most city zoning and housing plans do not advance fair housing goals\, in some cases exacerbating rather than reversing segregation. Excluding new housing from desirable neighborhoods likely contributes to housing scarcity and unaffordability\, while increasing the risk of homelessness. Presented by Michael Lens\, associate professor of urban planning and public policy; associate faculty director\, Lewis Center for Regional Policy Studies \nOTHER PRESENTERS \nCurrent legislators\, representatives of government agencies and other policy experts will provide insights during the panel discussion and Q&A sessions to follow. This event is also envisioned as a listening opportunity. If you’re involved in policymaking in Sacramento\, please contact us about attending and encourage your colleagues to do so as well. We look forward to hearing your suggestions relating to legislative priorities that would benefit from UCLA research. \nSCHEDULE \nCheck-In and Breakfast: 9 a.m.\nOpening Remarks: 9:30 a.m.\nPanel 1: 9:45 a.m.\nNetworking break: 10:45 a.m.\nPanel 2: 11 a.m.\nClosing Remarks: noon \nINQUIRE ABOUT ATTENDING
URL:https://innovation.luskin.ucla.edu/event/transformative-action-ucla-luskin-at-uc-center-sacramento/
LOCATION:UC Center Sacramento\, 1115 11th St Sacramento\, United States
ATTACH;FMTTYPE=image/png:https://innovation.luskin.ucla.edu/wp-content/uploads/2024/01/3-cogs_square-1-520x341-1.png
END:VEVENT
END:VCALENDAR