BEGIN:VCALENDAR
VERSION:2.0
PRODID:-//UCLA Luskin Center for Innovation - ECPv6.15.16//NONSGML v1.0//EN
CALSCALE:GREGORIAN
METHOD:PUBLISH
X-ORIGINAL-URL:https://innovation.luskin.ucla.edu
X-WR-CALDESC:Events for UCLA Luskin Center for Innovation
REFRESH-INTERVAL;VALUE=DURATION:PT1H
X-Robots-Tag:noindex
X-PUBLISHED-TTL:PT1H
BEGIN:VTIMEZONE
TZID:America/Los_Angeles
BEGIN:DAYLIGHT
TZOFFSETFROM:-0800
TZOFFSETTO:-0700
TZNAME:PDT
DTSTART:20230312T100000
END:DAYLIGHT
BEGIN:STANDARD
TZOFFSETFROM:-0700
TZOFFSETTO:-0800
TZNAME:PST
DTSTART:20231105T090000
END:STANDARD
BEGIN:DAYLIGHT
TZOFFSETFROM:-0800
TZOFFSETTO:-0700
TZNAME:PDT
DTSTART:20240310T100000
END:DAYLIGHT
BEGIN:STANDARD
TZOFFSETFROM:-0700
TZOFFSETTO:-0800
TZNAME:PST
DTSTART:20241103T090000
END:STANDARD
BEGIN:DAYLIGHT
TZOFFSETFROM:-0800
TZOFFSETTO:-0700
TZNAME:PDT
DTSTART:20250309T100000
END:DAYLIGHT
BEGIN:STANDARD
TZOFFSETFROM:-0700
TZOFFSETTO:-0800
TZNAME:PST
DTSTART:20251102T090000
END:STANDARD
END:VTIMEZONE
BEGIN:VEVENT
DTSTART;TZID=America/Los_Angeles:20240713T154500
DTEND;TZID=America/Los_Angeles:20240713T174500
DTSTAMP:20260420T080749
CREATED:20240710T194334Z
LAST-MODIFIED:20240711T210333Z
UID:24207-1720885500-1720892700@innovation.luskin.ucla.edu
SUMMARY:What's on Tap: LA's Water Story\, Source to Spigot
DESCRIPTION:Join us for the opening reception of “What’s on Tap: LA’s Water Story\, Source to Spigot\,” curated by Edith De Guzman and Jolly de Guzman. This event will feature a panel discussion on the water issues that most affect LA’s and California’s communities\, including affordability\, access to clean water\, tap water (dis)trust\, and where LA sources its water. \nPanelists:\n\nCandice Dickens-Russell\, President & CEO\, Friends of the Los Angeles River\nVictor Griego\, Founder\, Water Education for Latino Leaders\nSilvia R. González\, Director of Research\, UCLA Latino Policy and Politics Institute\nAlesia Montgomery\, Assistant Professor\, UCLA Department of African American Studies and Institute of Environment and Sustainability\n\nModerator:\n\nGregory Pierce\, Director\, UCLA Water Resources Group\n\nEvent Details:\n\nDate: July 13\, 2024\nTime: 4:00 PM – 8:00 PM (Panel discussion starts at 4:00 PM)\nLocation: Avenue 50 Studio\, 131 N. Avenue 50\, Highland Park\, 90042\n\nPartners:\n\nUniversity of California Agriculture and Natural Resources\nUCLA Water Resources Group\nUCLA Luskin Center for Innovation\nArroyo Arts Collective\nDear Antler\n\nWe look forward to seeing you there!
URL:https://innovation.luskin.ucla.edu/event/whats-on-tap-las-water-story-source-to-spigot/
LOCATION:Avenue 50 Studio\, 131 N. Avenue 50\, Highland Park\, 90042
ATTACH;FMTTYPE=image/png:https://innovation.luskin.ucla.edu/wp-content/uploads/2024/07/Whats_on_Tap_Event_Image.png
END:VEVENT
END:VCALENDAR