BEGIN:VCALENDAR
VERSION:2.0
PRODID:-//UCLA Luskin Center for Innovation - ECPv6.15.16//NONSGML v1.0//EN
CALSCALE:GREGORIAN
METHOD:PUBLISH
X-ORIGINAL-URL:https://innovation.luskin.ucla.edu
X-WR-CALDESC:Events for UCLA Luskin Center for Innovation
REFRESH-INTERVAL;VALUE=DURATION:PT1H
X-Robots-Tag:noindex
X-PUBLISHED-TTL:PT1H
BEGIN:VTIMEZONE
TZID:America/Los_Angeles
BEGIN:DAYLIGHT
TZOFFSETFROM:-0800
TZOFFSETTO:-0700
TZNAME:PDT
DTSTART:20230312T100000
END:DAYLIGHT
BEGIN:STANDARD
TZOFFSETFROM:-0700
TZOFFSETTO:-0800
TZNAME:PST
DTSTART:20231105T090000
END:STANDARD
BEGIN:DAYLIGHT
TZOFFSETFROM:-0800
TZOFFSETTO:-0700
TZNAME:PDT
DTSTART:20240310T100000
END:DAYLIGHT
BEGIN:STANDARD
TZOFFSETFROM:-0700
TZOFFSETTO:-0800
TZNAME:PST
DTSTART:20241103T090000
END:STANDARD
BEGIN:DAYLIGHT
TZOFFSETFROM:-0800
TZOFFSETTO:-0700
TZNAME:PDT
DTSTART:20250309T100000
END:DAYLIGHT
BEGIN:STANDARD
TZOFFSETFROM:-0700
TZOFFSETTO:-0800
TZNAME:PST
DTSTART:20251102T090000
END:STANDARD
END:VTIMEZONE
BEGIN:VEVENT
DTSTART;TZID=America/Los_Angeles:20240905T080000
DTEND;TZID=America/Los_Angeles:20240905T170000
DTSTAMP:20260420T063425
CREATED:20240805T224223Z
LAST-MODIFIED:20240805T224223Z
UID:24631-1725523200-1725555600@innovation.luskin.ucla.edu
SUMMARY:Urban Forestry for Changing Times: The Practice of Science and the Science of Practice
DESCRIPTION:Register\nClick here to register \nAgenda:\n\n8:00 AM – 9:00 AM: Check-in and Light Breakfast\n9:00 AM – 3:00 PM: Main Program\n3:00 PM – 5:00 PM: Networking Reception (Hosted by USC Public Exchange)\n\nJoin a diverse group of regional researchers\, practitioners\, and representatives from government and nonprofit organizations for a day of stimulating panel discussions and networking opportunities. Topics will include: \n\nThe state of urban forestry research\nScience delivery & communication\nUrban forest equity\nUrban forest planning and management\n\nEvent Details:\n\nDate: Thursday\, September 5\, 2024\nTime: 8:00 AM to 5:00 PM PDT\nLocation: Angeles National Forest Headquarters (Supervisor’s Office)\, 701 North Santa Anita Avenue\, Arcadia\, CA 91006\nParking: Free parking is available at the venue. Carpooling is encouraged.\n\nConfirmed Speakers:\n\nMarianna Babboni\, USC Urban Trees Initiative\nCindy Blain\, California ReLeaf\nEdith de Guzman\, UCLA Luskin Center for Innovation/UC Cooperative Extension\nFrancisco Escobedo\, US Forest Service/LA Center for Urban Natural Resources Sustainability\nRebecca Ferdman\, Los Angeles County\nAmanda Hansen\, California Natural Resources Agency\nDarrel Jenerette\, UC Riverside\nRachel Malarich\, City of Los Angeles\nAlessandro Ossola\, UC Davis\nLara Roman\, US Forest Service\nKirsten Schwarz\, UCLA\nRachel Smith\, US Forest Service\nJon Swae\, City of San Francisco\nAaron Thomas\, North East Trees\n\nCo-Presented by:\n\nWe look forward to seeing you there!
URL:https://innovation.luskin.ucla.edu/event/urban-forestry-for-changing-times-the-practice-of-science-and-the-science-of-practice/
LOCATION:Angeles National Forest Headquarters (Supervisor’s Office)\, 701 North Santa Anita Avenue\, Arcadia\, CA 91006
ATTACH;FMTTYPE=image/png:https://innovation.luskin.ucla.edu/wp-content/uploads/2024/08/Urban-Forestry-Header-Graphic_08.05.24.png
END:VEVENT
END:VCALENDAR