BEGIN:VCALENDAR
VERSION:2.0
PRODID:-//UCLA Luskin Center for Innovation - ECPv6.15.16//NONSGML v1.0//EN
CALSCALE:GREGORIAN
METHOD:PUBLISH
X-ORIGINAL-URL:https://innovation.luskin.ucla.edu
X-WR-CALDESC:Events for UCLA Luskin Center for Innovation
REFRESH-INTERVAL;VALUE=DURATION:PT1H
X-Robots-Tag:noindex
X-PUBLISHED-TTL:PT1H
BEGIN:VTIMEZONE
TZID:America/Los_Angeles
BEGIN:DAYLIGHT
TZOFFSETFROM:-0800
TZOFFSETTO:-0700
TZNAME:PDT
DTSTART:20250309T100000
END:DAYLIGHT
BEGIN:STANDARD
TZOFFSETFROM:-0700
TZOFFSETTO:-0800
TZNAME:PST
DTSTART:20251102T090000
END:STANDARD
BEGIN:DAYLIGHT
TZOFFSETFROM:-0800
TZOFFSETTO:-0700
TZNAME:PDT
DTSTART:20260308T100000
END:DAYLIGHT
BEGIN:STANDARD
TZOFFSETFROM:-0700
TZOFFSETTO:-0800
TZNAME:PST
DTSTART:20261101T090000
END:STANDARD
BEGIN:DAYLIGHT
TZOFFSETFROM:-0800
TZOFFSETTO:-0700
TZNAME:PDT
DTSTART:20270314T100000
END:DAYLIGHT
BEGIN:STANDARD
TZOFFSETFROM:-0700
TZOFFSETTO:-0800
TZNAME:PST
DTSTART:20271107T090000
END:STANDARD
END:VTIMEZONE
BEGIN:VEVENT
DTSTART;TZID=America/Los_Angeles:20260415T073000
DTEND;TZID=America/Los_Angeles:20260415T143000
DTSTAMP:20260420T063329
CREATED:20260126T191629Z
LAST-MODIFIED:20260126T191810Z
UID:40330-1776238200-1776263400@innovation.luskin.ucla.edu
SUMMARY:Luskin Summit 2026: Building Power Through Local Solutions
DESCRIPTION:The 2026 Luskin Summit\, “Building Power Through Local Solutions\,” will examine how California communities can build power to address vulnerability through locally driven policy action that advances equity\, and well-being. The Summit will emphasize that lasting change comes not from one-size-fits-all approaches\, but from empowering local governments\, institutions\, and communities to shape solutions that reflect their needs and strengths. Learn more here. \n\nThe Luskin Center for Innovation will be organizing two panels in the Environmental Health and Justice session track: \n\nBringing Relief to Plastic-Burdened Communities\nAdvancing Shade Solutions During LA’s Mega-Event Era\n\n\nDate: Wednesday\, April 15\, 2026\, 7:30 a.m. – 2:30 p.m. \nLocation: UCLA Luskin Conference Center \nRegistration: \n\nBefore March 1: $50 general admission | $15 for UCLA students\nAfter March 1: $60 general admission | $20 for UCLA students\n\nRegister Here\n\nSessions\nOpening Plenary\nTrack 1: California’s Housing Strategy\nTrack 2: Environmental Health and Justice\nTrack 3: Transportation Security\nTrack 4: Roots of Socio-Economic Vulnerability and Prosperity\nClosing Plenary \nSchedule\nCheck-In and Breakfast: 7:30 a.m.\nOpening Remarks: 8:15 a.m.\nOpening Plenary: 8:25 a.m.\nBreakout Discussions\, Round 1: 9:35 a.m.\nBreakout Discussions\, Round 2: 10:45 a.m.\nClosing Session: 12 noon\nNetworking Lunch: 1:15 p.m. \nFeatured Presenters\n\nGovernment officials and civic leaders\nDecision-makers in politics and business\nUCLA scholars\nDifference-makers in the nonprofit and philanthropic spheres
URL:https://innovation.luskin.ucla.edu/event/luskin-summit-2026-building-power-through-local-solutions/
LOCATION:UCLA Meyer & Renee Luskin Conference Center\, 425 Westwood Plaza\, Los Angeles\, CA\, 90095\, United States
ATTACH;FMTTYPE=image/jpeg:https://innovation.luskin.ucla.edu/wp-content/uploads/2026/01/Event-post_luskin-Summit-banner.jpg
END:VEVENT
END:VCALENDAR