BEGIN:VCALENDAR
VERSION:2.0
PRODID:-//UCLA Luskin Center for Innovation - ECPv6.15.16//NONSGML v1.0//EN
CALSCALE:GREGORIAN
METHOD:PUBLISH
X-WR-CALNAME:UCLA Luskin Center for Innovation
X-ORIGINAL-URL:https://innovation.luskin.ucla.edu
X-WR-CALDESC:Events for UCLA Luskin Center for Innovation
REFRESH-INTERVAL;VALUE=DURATION:PT1H
X-Robots-Tag:noindex
X-PUBLISHED-TTL:PT1H
BEGIN:VTIMEZONE
TZID:America/Los_Angeles
BEGIN:DAYLIGHT
TZOFFSETFROM:-0800
TZOFFSETTO:-0700
TZNAME:PDT
DTSTART:19690427T100000
END:DAYLIGHT
BEGIN:STANDARD
TZOFFSETFROM:-0700
TZOFFSETTO:-0800
TZNAME:PST
DTSTART:19691026T090000
END:STANDARD
BEGIN:DAYLIGHT
TZOFFSETFROM:-0800
TZOFFSETTO:-0700
TZNAME:PDT
DTSTART:19700426T100000
END:DAYLIGHT
BEGIN:STANDARD
TZOFFSETFROM:-0700
TZOFFSETTO:-0800
TZNAME:PST
DTSTART:19701025T090000
END:STANDARD
BEGIN:DAYLIGHT
TZOFFSETFROM:-0800
TZOFFSETTO:-0700
TZNAME:PDT
DTSTART:19710425T100000
END:DAYLIGHT
BEGIN:STANDARD
TZOFFSETFROM:-0700
TZOFFSETTO:-0800
TZNAME:PST
DTSTART:19711031T090000
END:STANDARD
END:VTIMEZONE
BEGIN:VEVENT
DTSTART;TZID=America/Los_Angeles:20260422T171614
DTEND;TZID=America/Los_Angeles:20260422T171614
DTSTAMP:20260422T171614
CREATED:20180801T212237Z
LAST-MODIFIED:20180801T212237Z
UID:4336-0-0@innovation.luskin.ucla.edu
SUMMARY:Sustainability and Corporate Leadership: Informed Green Strategies for Your Firm
DESCRIPTION:How are changing perceptions\, policies and management practices regarding environmental and resource issues such as climate change\, green technologies\, and sustainability likely to impact your firm and how can you best plan for these changes? This intensive program is designed for professionals who are leaders in their organizations and seek to understand the long-term value of incorporating sustainability and green innovations into their strategy\, products\, operations\, and brand management. This program is not credit-bearing – Each participant will receive a Certificate of Participation
URL:https://innovation.luskin.ucla.edu/event/sustainability-and-corporate-leadership-informed-green-strategies-for-your-firm/
END:VEVENT
BEGIN:VEVENT
DTSTART;TZID=America/Los_Angeles:20260422T171614
DTEND;TZID=America/Los_Angeles:20260422T171614
DTSTAMP:20260422T171614
CREATED:20180801T212236Z
LAST-MODIFIED:20180801T212236Z
UID:4334-0-0@innovation.luskin.ucla.edu
SUMMARY:UCLA Institute of the Environment/ Luskin Lunch Research Seminar
DESCRIPTION:Matt Kahn\, Luskin Scholar
URL:https://innovation.luskin.ucla.edu/event/ucla-institute-of-the-environment-luskin-lunch-research-seminar/
END:VEVENT
END:VCALENDAR