BEGIN:VCALENDAR
VERSION:2.0
PRODID:-//UCLA Luskin Center for Innovation - ECPv6.15.16//NONSGML v1.0//EN
CALSCALE:GREGORIAN
METHOD:PUBLISH
X-ORIGINAL-URL:https://innovation.luskin.ucla.edu
X-WR-CALDESC:Events for UCLA Luskin Center for Innovation
REFRESH-INTERVAL;VALUE=DURATION:PT1H
X-Robots-Tag:noindex
X-PUBLISHED-TTL:PT1H
BEGIN:VTIMEZONE
TZID:America/Los_Angeles
BEGIN:DAYLIGHT
TZOFFSETFROM:-0800
TZOFFSETTO:-0700
TZNAME:PDT
DTSTART:20180311T100000
END:DAYLIGHT
BEGIN:STANDARD
TZOFFSETFROM:-0700
TZOFFSETTO:-0800
TZNAME:PST
DTSTART:20181104T090000
END:STANDARD
BEGIN:DAYLIGHT
TZOFFSETFROM:-0800
TZOFFSETTO:-0700
TZNAME:PDT
DTSTART:20190310T100000
END:DAYLIGHT
BEGIN:STANDARD
TZOFFSETFROM:-0700
TZOFFSETTO:-0800
TZNAME:PST
DTSTART:20191103T090000
END:STANDARD
BEGIN:DAYLIGHT
TZOFFSETFROM:-0800
TZOFFSETTO:-0700
TZNAME:PDT
DTSTART:20200308T100000
END:DAYLIGHT
BEGIN:STANDARD
TZOFFSETFROM:-0700
TZOFFSETTO:-0800
TZNAME:PST
DTSTART:20201101T090000
END:STANDARD
END:VTIMEZONE
BEGIN:VEVENT
DTSTART;TZID=America/Los_Angeles:20190228T093000
DTEND;TZID=America/Los_Angeles:20190228T143000
DTSTAMP:20260425T201035
CREATED:20190111T015839Z
LAST-MODIFIED:20220511T190001Z
UID:6815-1551346200-1551364200@innovation.luskin.ucla.edu
SUMMARY:Our Shared Solar Future: Expanding Access Through Community Solar
DESCRIPTION:Join us in Long Beach for our fourth-annual Los Angeles Energy and Equity Policy Series event!\nThis February\, GRID Alternatives is hosting “Our Shared Solar Future: Expanding Access through Community Solar.” In this half-day event\, solar-energy advocates will dive into community solar as a powerful policy strategy to encourage clean energy equity. GRID\, an Oakland-based nonprofit solar installer\, has put together a panel of experts and advocates to review successful community solar case studies from around the country\, discuss recent policy developments\, and more! Whether you’re an expert or new to solar\, this panel series will have something for you. Breakfast and lunch included. \nSpeakers include: \n\nMartha Guzman Aceves\, Commissioner\, California Public Utilities Commission\nMarta Tomic\, Program Director\, Vote Solar\nTom Figel\, Policy & Regulatory Manager – Community Solar\, GRID Alternatives\nTed Bardacke\, Executive Director\, Clean Power Alliance\nAnthony Hernandez\, Principal Manager\, Energy Procurement & Management\, Southern California Edison\nBrandon Smithwood\, Policy Director\, Coalition for Community Solar Access\nMichael Kadish\, Executive Director\, GRID Alternatives Greater Los Angeles\n\nMore will be announced. Tickets are $30 in advance by using code FRIENDOFGRID ($10 reduction). \nHope to see you there! Space is limited. Please RSVP today.
URL:https://innovation.luskin.ucla.edu/event/our-shared-solar-future-expanding-access-through-community-solar/
ATTACH;FMTTYPE=image/jpeg:https://innovation.luskin.ucla.edu/wp-content/uploads/2019/01/event-logo.jpg
ORGANIZER;CN="GRID Alternatives":MAILTO:infogla@gridalternatives.org
END:VEVENT
END:VCALENDAR