BEGIN:VCALENDAR
VERSION:2.0
PRODID:-//UCLA Luskin Center for Innovation - ECPv6.15.16//NONSGML v1.0//EN
CALSCALE:GREGORIAN
METHOD:PUBLISH
X-WR-CALNAME:UCLA Luskin Center for Innovation
X-ORIGINAL-URL:https://innovation.luskin.ucla.edu
X-WR-CALDESC:Events for UCLA Luskin Center for Innovation
REFRESH-INTERVAL;VALUE=DURATION:PT1H
X-Robots-Tag:noindex
X-PUBLISHED-TTL:PT1H
BEGIN:VTIMEZONE
TZID:America/Los_Angeles
BEGIN:DAYLIGHT
TZOFFSETFROM:-0800
TZOFFSETTO:-0700
TZNAME:PDT
DTSTART:20180311T100000
END:DAYLIGHT
BEGIN:STANDARD
TZOFFSETFROM:-0700
TZOFFSETTO:-0800
TZNAME:PST
DTSTART:20181104T090000
END:STANDARD
BEGIN:DAYLIGHT
TZOFFSETFROM:-0800
TZOFFSETTO:-0700
TZNAME:PDT
DTSTART:20190310T100000
END:DAYLIGHT
BEGIN:STANDARD
TZOFFSETFROM:-0700
TZOFFSETTO:-0800
TZNAME:PST
DTSTART:20191103T090000
END:STANDARD
BEGIN:DAYLIGHT
TZOFFSETFROM:-0800
TZOFFSETTO:-0700
TZNAME:PDT
DTSTART:20200308T100000
END:DAYLIGHT
BEGIN:STANDARD
TZOFFSETFROM:-0700
TZOFFSETTO:-0800
TZNAME:PST
DTSTART:20201101T090000
END:STANDARD
END:VTIMEZONE
BEGIN:VEVENT
DTSTART;TZID=America/Los_Angeles:20190405T070000
DTEND;TZID=America/Los_Angeles:20190405T143000
DTSTAMP:20260425T153422
CREATED:20190208T192542Z
LAST-MODIFIED:20220511T190000Z
UID:8076-1554447600-1554474600@innovation.luskin.ucla.edu
SUMMARY:13th Annual Sustainability Summit
DESCRIPTION:This year’s Summit will focus on why climate resiliency is key to future economic growth\, how California’s renewable energy market is growing far beyond its borders and how conservation and new technologies will affect the state’s water resources. \nMore details and registration link to come.
URL:https://innovation.luskin.ucla.edu/event/13th-annual-sustainability-summit/
LOCATION:The Getty Center\n              \n        1200 Getty Center Dr              \n              Los Angeles\,               CA\n              90049\, United States
ATTACH;FMTTYPE=image/jpeg:https://innovation.luskin.ucla.edu/wp-content/uploads/2019/02/LABC_Logo.jpg
END:VEVENT
BEGIN:VEVENT
DTSTART;TZID=America/Los_Angeles:20190424T083000
DTEND;TZID=America/Los_Angeles:20190424T130000
DTSTAMP:20260425T153422
CREATED:20190208T193112Z
LAST-MODIFIED:20220511T190000Z
UID:8081-1556094600-1556110800@innovation.luskin.ucla.edu
SUMMARY:LUSKIN SUMMIT 2019: LIVABLE L.A.
DESCRIPTION:REGISTER HERE\nThis April\, our School will mark its 25th anniversary with the inaugural convening of a research-informed\, cross-sector conversation about the major issues facing the Los Angeles region. \nThe summit will focus not on problems but on solutions. \nSession Topics \n\nPreparing to Thrive in a Hotter Los Angeles\nWhy Access to Safe\, Affordable Water Is Still a Challenge in Metro Los Angeles\nDealing with Disruption: From Public Transit to Public Mobility\nGrowing Inequality in Los Angeles – Jobs and Housing\nCensus 2020 and Its Impact on Los Angeles\nCan Decarceration Make Los Angeles Safer?\nUnveiling of the 2019 Los Angeles County Quality of Life Index\n\nFeatured Presenters \n\nElected officials\, including several mayors of L.A.-area cities\nDecision-makers in government and business\nUCLA scholars\nCivic leaders\nDifference-makers in the nonprofit and philanthropic spheres\n\nAgenda \nBreakfast: 8:30 a.m.\nKeynote Address: 9 a.m. \nBreakout Discussions: 9:45 – 11:30 a.m.\nClosing Plenary Session: 11:45 a.m.
URL:https://innovation.luskin.ucla.edu/event/luskin-summit-2019-livable-l-a/
LOCATION:UCLA Luskin Conference Center\n              \n        425 Westwood Plaza              \n              Los Angeles\,               CA\n              90095\, United States
ATTACH;FMTTYPE=image/jpeg:https://innovation.luskin.ucla.edu/wp-content/uploads/2019/02/LivableL.A.2.jpg
END:VEVENT
END:VCALENDAR