BEGIN:VCALENDAR
VERSION:2.0
PRODID:-//UCLA Luskin Center for Innovation - ECPv6.15.16//NONSGML v1.0//EN
CALSCALE:GREGORIAN
METHOD:PUBLISH
X-ORIGINAL-URL:https://innovation.luskin.ucla.edu
X-WR-CALDESC:Events for UCLA Luskin Center for Innovation
REFRESH-INTERVAL;VALUE=DURATION:PT1H
X-Robots-Tag:noindex
X-PUBLISHED-TTL:PT1H
BEGIN:VTIMEZONE
TZID:America/Los_Angeles
BEGIN:DAYLIGHT
TZOFFSETFROM:-0800
TZOFFSETTO:-0700
TZNAME:PDT
DTSTART:20180311T100000
END:DAYLIGHT
BEGIN:STANDARD
TZOFFSETFROM:-0700
TZOFFSETTO:-0800
TZNAME:PST
DTSTART:20181104T090000
END:STANDARD
BEGIN:DAYLIGHT
TZOFFSETFROM:-0800
TZOFFSETTO:-0700
TZNAME:PDT
DTSTART:20190310T100000
END:DAYLIGHT
BEGIN:STANDARD
TZOFFSETFROM:-0700
TZOFFSETTO:-0800
TZNAME:PST
DTSTART:20191103T090000
END:STANDARD
BEGIN:DAYLIGHT
TZOFFSETFROM:-0800
TZOFFSETTO:-0700
TZNAME:PDT
DTSTART:20200308T100000
END:DAYLIGHT
BEGIN:STANDARD
TZOFFSETFROM:-0700
TZOFFSETTO:-0800
TZNAME:PST
DTSTART:20201101T090000
END:STANDARD
END:VTIMEZONE
BEGIN:VEVENT
DTSTART;TZID=America/Los_Angeles:20191002T070000
DTEND;TZID=America/Los_Angeles:20191004T180000
DTSTAMP:20260424T174019
CREATED:20190628T194844Z
LAST-MODIFIED:20220511T185959Z
UID:10599-1569999600-1570212000@innovation.luskin.ucla.edu
SUMMARY:Net Zero 2019 Conference & Expo
DESCRIPTION:REGISTER HERE\nwww.netzeroconference.com \n\nThe world’s largest annual net zero building conference!\n1\,200+ attendees and 100+ exhibitors\nLeading global speakers and attendees (9 countries and 23 states represented last year)\n6th annual conference\nInspiring keynote speakers\nWorld-class education sessions\nProfessional networking\nExpo Hall with exhibitions from industry-leading companies\nContent on net zero energy\, water\, waste\, and transit\nSee discounted ticket options below\n\nGeneral Schedule: \n\nWednesday\, 10/2: Building Tours (8 am – 5 pm)\, Net Zero Start Up Competition (3 pm – 5 pm)\, Pre-Conference Party Hosted by ILFI (6 pm – 10 pm)\nThursday\, 10/3: Main Conference & Expo Day (8 am – 5 pm)\, Robin Hood Benefit Gala (6 pm – 10 pm)\nFriday\, 10/4: Building Tours (8 am – 5 pm)\, ILFI Zero Energy Accelerator (8 am – 12 pm)*\, ILFI LBC 4.0 Workshop (12:30 pm – 4:30 pm)*\, Post-Conference Party Hosted by USGBC-LA (5 pm – 7 pm)\n\n*Tickets sold separately \n \nClick to enlarge \nNeed-Based Conference Tickets:\nThanks to a generous sponsorship from Southern California Edison\, a pool of free tickets for need-based attendees is available. If you find the event to be cost-prohibitive to attend\, please contact hello@verdicalevents.com for information on how to obtain a free need-based ticket. \nSpeaker Registration:\nConfirmed speakers and panelists receive complimentary registration for the Main Conference Day (10/3) only. If you’re speaking and wish to attend the full conference (10/2 – 10/4)\, please contact hello@verdicalevents.com to receive a $100 discount on the Full Conference Pass (includes admittance to all Tours\, Main Conference\, Expo Hall\, and the Robin Hood Gala). \nCity Employee Discount:\nCity/Municipal Employees are eligible to receive 10% off NZ19 tickets. Please contact hello@verdicalevents.com for more information. \nSCE Diverse Supplier Discount:\nSouthern California Edison-identified diverse suppliers are eligible to receive 10% off NZ19 tickets. Please contact hello@verdicalevents.com for more information. (Applies to first 20 applicants only.) \nVolunteer Opportunities:\nInterested in volunteering at NZ19? Contact hello@verdicalevents.com for more information. Volunteers will receive complimentary access for all events that take place on the day(s) of volunteering. \nPhotographic Release: There will be photographers and film crews at the event. By signing up for a registration pass\, you understand that you may appear in photographs or film footage from the conference.
URL:https://innovation.luskin.ucla.edu/event/net-zero-2019-conference-expo/
LOCATION:Los Angeles Convention Center \n              \n        1201 S Figueroa Street              \n              Los Angeles\,               CA\n              90015\, United States
ATTACH;FMTTYPE=image/jpeg:https://innovation.luskin.ucla.edu/wp-content/uploads/2019/06/NZ19.jpg
END:VEVENT
BEGIN:VEVENT
DTSTART;TZID=America/Los_Angeles:20191016T060000
DTEND;TZID=America/Los_Angeles:20191016T200000
DTSTAMP:20260424T174019
CREATED:20190924T234117Z
LAST-MODIFIED:20220511T185959Z
UID:10760-1571205600-1571256000@innovation.luskin.ucla.edu
SUMMARY:Birkha Bawari - Contemporizing Traditional Water Architecture: a 21st Century Step Well in India
DESCRIPTION:RSVP Here\nVisit the exhibition India’s Subterranean Stepwells: Photographs by Victoria Lautman before the lecture and enjoy light refreshments afterward in the Fowler Amphitheather. \nStep-wells\, subterranean aqua-structures\, were an integral part of Indian communities from 2nd century A.D. until the end of 19th century. Relegated to history in favor of canal and piped water-supply\, these exquisite step-wells were gradually abandoned and forgotten. However\, with 21st century water crises in India\, the ancient wisdom of harnessing water could now be made a part of a new aqua-architecture and sustainable water network. \nThis lecture is presented given in conjunction with the Fowler Museum’s exhibition “India’s Subterranean Stepwells: Photographs by Victoria Lautman” Victoria Laufman Photographic Exhibit which features\, selection of 48 photographs surveys 16 sites built between the 9th and 18th centuries. Lautman’s photographs evoke aspects of each stepwell’s structure\, aesthetics\, and atmosphere. \nThe Speakers \nThe speakers\, Architect A. Mridul and Artist/entrepreneur Shilpa Mridul\, will talk about their project\, Birkha Bawarii. It is fashioned like a step-well\, designed and built in Umaid Heritage Housing Township in Jodhpur\, a water-stressed city on the fringe of the Thar Desert of India. They will also talk about their efforts to replicate and expand that network\, and to integrate the arts\, history and culture of the region into this renewal. \nDate: Wednesday\, October 16\, 2019 \nLocation: Lenart Auditorium\, Fowler Museum at UCLA Auditorium \n5:00pm Visit the exhibition India’s Subterranean Stepwells: Photographs by Victoria Lautman \n6:00pm A. Mridul and Shipla Mridul Lecture \n7:15pm Light refreshments after the Lecture in the Fowler Amphitheather \nCopresented by UCLA Water Resources Group\, UCLA Department of Geography\, UCLA Luskin Center for Innovation\, UCLA Laboratory for Environmental Narrative Strategies\, and UCLA Center for Indian and South Asian Studies.
URL:https://innovation.luskin.ucla.edu/event/birkha-bawari-contemporizing-traditional-water-architecture-a-21st-century-step-well-in-india/
ATTACH;FMTTYPE=image/jpeg:https://innovation.luskin.ucla.edu/wp-content/uploads/2019/09/lecture.jpg
END:VEVENT
END:VCALENDAR