BEGIN:VCALENDAR
VERSION:2.0
PRODID:-//UCLA Luskin Center for Innovation - ECPv6.15.16//NONSGML v1.0//EN
CALSCALE:GREGORIAN
METHOD:PUBLISH
X-WR-CALNAME:UCLA Luskin Center for Innovation
X-ORIGINAL-URL:https://innovation.luskin.ucla.edu
X-WR-CALDESC:Events for UCLA Luskin Center for Innovation
REFRESH-INTERVAL;VALUE=DURATION:PT1H
X-Robots-Tag:noindex
X-PUBLISHED-TTL:PT1H
BEGIN:VTIMEZONE
TZID:America/Los_Angeles
BEGIN:DAYLIGHT
TZOFFSETFROM:-0800
TZOFFSETTO:-0700
TZNAME:PDT
DTSTART:20190310T100000
END:DAYLIGHT
BEGIN:STANDARD
TZOFFSETFROM:-0700
TZOFFSETTO:-0800
TZNAME:PST
DTSTART:20191103T090000
END:STANDARD
BEGIN:DAYLIGHT
TZOFFSETFROM:-0800
TZOFFSETTO:-0700
TZNAME:PDT
DTSTART:20200308T100000
END:DAYLIGHT
BEGIN:STANDARD
TZOFFSETFROM:-0700
TZOFFSETTO:-0800
TZNAME:PST
DTSTART:20201101T090000
END:STANDARD
BEGIN:DAYLIGHT
TZOFFSETFROM:-0800
TZOFFSETTO:-0700
TZNAME:PDT
DTSTART:20210314T100000
END:DAYLIGHT
BEGIN:STANDARD
TZOFFSETFROM:-0700
TZOFFSETTO:-0800
TZNAME:PST
DTSTART:20211107T090000
END:STANDARD
END:VTIMEZONE
BEGIN:VEVENT
DTSTART;TZID=America/Los_Angeles:20200129T110000
DTEND;TZID=America/Los_Angeles:20200129T140000
DTSTAMP:20260424T005657
CREATED:20191218T031344Z
LAST-MODIFIED:20220511T185958Z
UID:11331-1580295600-1580306400@innovation.luskin.ucla.edu
SUMMARY:Convening with Child Care Providers on Status of AB 2370
DESCRIPTION:RSVP Here\nLearn about and provide your feedback on AB 2370. AB 2370 is a new law that impacts licensed child care centers by requiring them to test their water for lead. Join First 5 LA\, the UCLA Luskin Center for Innovation\, the Child Care Alliance\, and other child care providers to learn about this new law\, ask questions to representative from the California Department of Social Services\, and provide your feedback to ensure this program is a success. Ample street parking is also available. Refreshments provided. Spanish translation available\, if requested.
URL:https://innovation.luskin.ucla.edu/event/convening-with-child-care-providers-on-status-of-ab-2370/
LOCATION:Salvation Army the Siemon Center\, 7651 South Central Ave.\, Los Angeles\, CA\, 90001\, United States
ATTACH;FMTTYPE=image/jpeg:https://innovation.luskin.ucla.edu/wp-content/uploads/2019/12/water-fountain.jpeg
END:VEVENT
END:VCALENDAR