BEGIN:VCALENDAR
VERSION:2.0
PRODID:-//UCLA Luskin Center for Innovation - ECPv6.15.16//NONSGML v1.0//EN
CALSCALE:GREGORIAN
METHOD:PUBLISH
X-WR-CALNAME:UCLA Luskin Center for Innovation
X-ORIGINAL-URL:https://innovation.luskin.ucla.edu
X-WR-CALDESC:Events for UCLA Luskin Center for Innovation
REFRESH-INTERVAL;VALUE=DURATION:PT1H
X-Robots-Tag:noindex
X-PUBLISHED-TTL:PT1H
BEGIN:VTIMEZONE
TZID:America/Los_Angeles
BEGIN:DAYLIGHT
TZOFFSETFROM:-0800
TZOFFSETTO:-0700
TZNAME:PDT
DTSTART:20190310T100000
END:DAYLIGHT
BEGIN:STANDARD
TZOFFSETFROM:-0700
TZOFFSETTO:-0800
TZNAME:PST
DTSTART:20191103T090000
END:STANDARD
BEGIN:DAYLIGHT
TZOFFSETFROM:-0800
TZOFFSETTO:-0700
TZNAME:PDT
DTSTART:20200308T100000
END:DAYLIGHT
BEGIN:STANDARD
TZOFFSETFROM:-0700
TZOFFSETTO:-0800
TZNAME:PST
DTSTART:20201101T090000
END:STANDARD
BEGIN:DAYLIGHT
TZOFFSETFROM:-0800
TZOFFSETTO:-0700
TZNAME:PDT
DTSTART:20210314T100000
END:DAYLIGHT
BEGIN:STANDARD
TZOFFSETFROM:-0700
TZOFFSETTO:-0800
TZNAME:PST
DTSTART:20211107T090000
END:STANDARD
END:VTIMEZONE
BEGIN:VEVENT
DTSTART;TZID=America/Los_Angeles:20200228T090000
DTEND;TZID=America/Los_Angeles:20200228T170000
DTSTAMP:20260424T005658
CREATED:20200210T232532Z
LAST-MODIFIED:20220511T185958Z
UID:11765-1582880400-1582909200@innovation.luskin.ucla.edu
SUMMARY:Energy Innovation Conference 2020
DESCRIPTION:RSVP HERE \nThe Energy Innovation Conference is an event that brings together students\, academics and professionals to showcase companies and technologies with the potential to reinvent the energy industry. This year’s presenters will focus on a number of topics\, including Energy Finance\, Innovation & Entrepreneurship and Resiliency & Storage. \nOur keynote addresses this year will be given by Sarah Slusser\, CEO of Cypress Creek Renewables\, in a conversation with Nurit Katz\, Chief Sustainability Officer for UCLA. The Conference will feature panelists\, moderators and representatives from 8Minute Energy\, Calgren\, Chargepoint\, Green Tech Media\, Griddy\, LADWP\, Latham & Watkins\, Novogradac\, Substance Power and Mobility\, WoodMackenzie\, Zero Waste Energy\, and other major players in the energy field. \nThe conference is attended by over 200 industry professionals\, UCLA Anderson students\, and students from the UCLA Engineering School. \nKeynote Speakers\nSarah Slusser\nCEO\, Cypress Creek Renewables \nMatt Petersen\nPresident and CEO\, Los Angeles Cleantech Incubator \nPanels\nEnergy Finance\n\nNovagradac\nLatham & Watkins\nAngeleno Group\n\nResiliency & Storage\n\n8Minute Solar\nLADWP\nClean Power Alliance\nAdvanced Sustainability Institute\n\nInnovation & Entrepreneurship\n\nCalgren Renewable Fuels\nZero Waste Energy\nGriddy
URL:https://innovation.luskin.ucla.edu/event/energy-innovation-conference-2020/
LOCATION:UCLA Anderson School of Management\, 110 Westwood Plaza\, Los Angeles\, CA\, 90095\, United States
ATTACH;FMTTYPE=image/jpeg:https://innovation.luskin.ucla.edu/wp-content/uploads/2020/02/energyinnovation.jpg
END:VEVENT
END:VCALENDAR