BEGIN:VCALENDAR
VERSION:2.0
PRODID:-//UCLA Luskin Center for Innovation - ECPv6.15.16//NONSGML v1.0//EN
CALSCALE:GREGORIAN
METHOD:PUBLISH
X-ORIGINAL-URL:https://innovation.luskin.ucla.edu
X-WR-CALDESC:Events for UCLA Luskin Center for Innovation
REFRESH-INTERVAL;VALUE=DURATION:PT1H
X-Robots-Tag:noindex
X-PUBLISHED-TTL:PT1H
BEGIN:VTIMEZONE
TZID:America/Los_Angeles
BEGIN:DAYLIGHT
TZOFFSETFROM:-0800
TZOFFSETTO:-0700
TZNAME:PDT
DTSTART:20190310T100000
END:DAYLIGHT
BEGIN:STANDARD
TZOFFSETFROM:-0700
TZOFFSETTO:-0800
TZNAME:PST
DTSTART:20191103T090000
END:STANDARD
BEGIN:DAYLIGHT
TZOFFSETFROM:-0800
TZOFFSETTO:-0700
TZNAME:PDT
DTSTART:20200308T100000
END:DAYLIGHT
BEGIN:STANDARD
TZOFFSETFROM:-0700
TZOFFSETTO:-0800
TZNAME:PST
DTSTART:20201101T090000
END:STANDARD
BEGIN:DAYLIGHT
TZOFFSETFROM:-0800
TZOFFSETTO:-0700
TZNAME:PDT
DTSTART:20210314T100000
END:DAYLIGHT
BEGIN:STANDARD
TZOFFSETFROM:-0700
TZOFFSETTO:-0800
TZNAME:PST
DTSTART:20211107T090000
END:STANDARD
END:VTIMEZONE
BEGIN:VEVENT
DTSTART;VALUE=DATE:20200422
DTEND;VALUE=DATE:20200508
DTSTAMP:20260423T170604
CREATED:20200116T040129Z
LAST-MODIFIED:20220511T185938Z
UID:11659-1587513600-1588895999@innovation.luskin.ucla.edu
SUMMARY:Luskin Summit 2020: A Call to Action
DESCRIPTION:The UCLA Luskin School of Public Affairs will wrap up its 25th anniversary celebration with the second convening of a research-informed\, cross-sector conversation about major issues facing the Los Angeles region with the Luskin Summit. In light of the health crisis\, this event will now be a virtual series of talks. \n\nDETAILS AND REGISTRATION\n\n  \n  \n  \n  \n  \n  \n  \n  \n  \n  \n  \n  \n  \n  \n  \n 
URL:https://innovation.luskin.ucla.edu/event/luskin-summit-2020-a-call-to-action/
LOCATION:Online
ATTACH;FMTTYPE=image/jpeg:https://innovation.luskin.ucla.edu/wp-content/uploads/2020/04/bannersummit2.jpg
END:VEVENT
BEGIN:VEVENT
DTSTART;TZID=America/Los_Angeles:20200522T143000
DTEND;TZID=America/Los_Angeles:20200522T153000
DTSTAMP:20260423T170604
CREATED:20200513T190235Z
LAST-MODIFIED:20220511T185937Z
UID:12109-1590157800-1590161400@innovation.luskin.ucla.edu
SUMMARY:Charting a Sustainable Recovery: Leveraging Environmental Investment Opportunities with COVID-19 Economic Stimuli
DESCRIPTION:In response to the COVID-19 crisis\, policymakers are drafting the largest economic stimulus packages in history. These policies offer a tremendous opportunity to invest in sustainability-related initiatives. This webinar will examine: \n\n How should we think about the environment during and after the pandemic?\nThe recovery from the 2008 recession advanced environmental goals in unprecedented ways. What are lessons from the 2008 recession and the ways it advanced environmental goals that could be adapted today?\nWhat key opportunities and needs exist for environmental investments in COVID economic stimulus packages? \nWhat can the public sector do to advance sustainability goals at the local\, state\, and federal level? How can investments maximize social\, economic\, and environmental benefits?\n\nWATCH HERE\nThis UCLA Luskin Summit session is co-hosted by the Luskin Center for Innovation and the USC Schwarzenegger Institute. \nSpeakers \nJ.R. DeShazo\nDirector\nLuskin Center for Innovation \nJ.R. DeShazo is the Director of the Luskin Center for Innovation at UCLA. He also is a Professor and Chair of the Department of Public Policy in the Luskin School of Public Affairs at UCLA\, where he is an expert in environmental economics and planning\, as well as climate\, energy\, water and sustainable transportation policy. He holds a Ph.D. in Urban Planning from Harvard University and a M.Sc. in Economics from Oxford University\, where he was a Rhodes Scholar. He was awarded Professor of the Year five times from 2001 to 2019 by the UCLA Masters Program in Public Policy. His recent research has focused on designing cost effective and equitable policies that incentivize clean technology adoption. He has previously advised the U.S. Environmental Protection Agency\, National Science Foundation\, the United Nations\, McArthur Foundation\, Ford Foundation\, among many state and local governmental agencies. \nBob Keefe\nExecutive Director\nEnvironmental Entrepreneurs (E2) \nBob Keefe is E2’s Executive Director\, overseeing E2’s work across the country and coordinating E2’s staff and chapters stretching from Boston to San Diego. Bob speaks regularly about the economic benefits of smart environmental policies; the clean energy economy; jobs and related issues\, and has been widely quoted in publications nationwide. Prior to joining E2 in 2011\, Bob spent more than 20 years as a political\, business and environmental journalist. He served as the chief Washington correspondent for the Atlanta Journal-Constitution; as a California-based national reporter for Cox Newspapers/Cox News Service; as technology editor for the Austin (Tx) American-Statesman and as a business and investigative reporter for the St. Petersburg (Fla.) Times. Bob also co-founded a technology news Web site and has co-authored or edited several business-related books. He is a graduate of the University of North Carolina at Chapel Hill and was a fellow at the University of Southern California’s Annenberg School for Communication and Journalism. \nFran Pavley\nEnvironmental Policy Director\, USC Schwarzenegger Institute\, and California State Senator Emeritus \nFran Pavley served 29 years in elected office. Born and raised in Los Angeles\, Pavley was elected the first mayor of Agoura Hills in 1982\, and served 14 years in the California Assembly and the State Senate. Former State Senator Pavley authored landmark climate policies (AB 1493\, AB 32\, SB 32\, and others) that have created a market for innovation and investment in clean energy and vehicles\, which have helped clean up our air\, grow the economy\, and reduce greenhouse gas emissions. As chair of the Senate’s Natural Resources and Water Committee\, she was able to pass the state’s first sustainable Groundwater Management Act\, promote policies to protect our ocean and watersheds\, and adopt measures to create more sustainable local water supplies. She is working as the Environmental Policy Director for the USC Schwarzenegger Institute\, and serves on several state and local advisory boards and committees. \nMatt Petersen\nPresident and CEO\nLos Angeles Cleantech Incubator (LACI) \nPrior to joining LACI\, Matt Petersen was appointed by Mayor Eric Garcetti as the first ever Chief Sustainability Officer for the City of Los Angeles. Serving as CSO for four years\, Petersen was the chief architect of the groundbreaking Sustainable City pLAn\, led efforts to make LA a global leader in EVs\, and helped create the Climate Mayors. Matt co-founded Global Green USA and led the organization for 19 years as President and CEO. The organization was a pioneer in greening of affordable housing\, schools\, and cities as well as helping grow the solar sector. In the aftermath of Hurricane Katrina\, Matt put forth a vision and mobilized resources to green the rebuilding of New Orleans\, including schools\, the Lower 9th Ward\, and more. Matt is chair of the Climate Mayors board\, and a board member of Global Green USA\, Habitat for Humanity of Greater Los Angeles\, Center for Environmental Health\, and the Sir Edmund Hilary Institute for International Leadership. Matt is a member of the Council on Foreign Relations\, the LA Sustainability Leadership Council\, and served as an advisor to the Clinton Global Initiative on energy and the environment while a CGI member for 10 years. He has a son\, and is a retired AYSO coach.
URL:https://innovation.luskin.ucla.edu/event/charting-a-sustainable-recovery-leveraging-environmental-investment-opportunities-with-covid-19-economic-stimuli/
ATTACH;FMTTYPE=image/jpeg:https://innovation.luskin.ucla.edu/wp-content/uploads/2020/04/bannersummit2.jpg
END:VEVENT
END:VCALENDAR