BEGIN:VCALENDAR
VERSION:2.0
PRODID:-//UCLA Luskin Center for Innovation - ECPv6.15.16//NONSGML v1.0//EN
CALSCALE:GREGORIAN
METHOD:PUBLISH
X-WR-CALNAME:UCLA Luskin Center for Innovation
X-ORIGINAL-URL:https://innovation.luskin.ucla.edu
X-WR-CALDESC:Events for UCLA Luskin Center for Innovation
REFRESH-INTERVAL;VALUE=DURATION:PT1H
X-Robots-Tag:noindex
X-PUBLISHED-TTL:PT1H
BEGIN:VTIMEZONE
TZID:America/Los_Angeles
BEGIN:DAYLIGHT
TZOFFSETFROM:-0800
TZOFFSETTO:-0700
TZNAME:PDT
DTSTART:20190310T100000
END:DAYLIGHT
BEGIN:STANDARD
TZOFFSETFROM:-0700
TZOFFSETTO:-0800
TZNAME:PST
DTSTART:20191103T090000
END:STANDARD
BEGIN:DAYLIGHT
TZOFFSETFROM:-0800
TZOFFSETTO:-0700
TZNAME:PDT
DTSTART:20200308T100000
END:DAYLIGHT
BEGIN:STANDARD
TZOFFSETFROM:-0700
TZOFFSETTO:-0800
TZNAME:PST
DTSTART:20201101T090000
END:STANDARD
BEGIN:DAYLIGHT
TZOFFSETFROM:-0800
TZOFFSETTO:-0700
TZNAME:PDT
DTSTART:20210314T100000
END:DAYLIGHT
BEGIN:STANDARD
TZOFFSETFROM:-0700
TZOFFSETTO:-0800
TZNAME:PST
DTSTART:20211107T090000
END:STANDARD
END:VTIMEZONE
BEGIN:VEVENT
DTSTART;TZID=America/Los_Angeles:20200629T140000
DTEND;TZID=America/Los_Angeles:20200629T150000
DTSTAMP:20260423T140409
CREATED:20200618T224254Z
LAST-MODIFIED:20220511T185937Z
UID:12149-1593439200-1593442800@innovation.luskin.ucla.edu
SUMMARY:Adapting to the Pandemic: How Organizations in the San Joaquin Valley Are Responding to Meet Clean Transportation and Livelihood Needs
DESCRIPTION:The live webinar has concluded. You can watch the archived webinar here.\n\n\n\n\n\n\n\n\nFaced with unprecedented conditions\, organizations throughout California are pivoting their programming to best serve their communities. This webinar will explore how organizations are innovating with local governments to adapt in the context of the COVID-19 pandemic to provide vital clean transportation\, environmental\, and food security services to in-need households\, as well as larger community economic benefits.\n\n\n  \n\n\nThis discussion is part of our Charting a Sustainable Recovery webinar series\, which convenes elected officials\, civic and business leaders\, non-profit advocates\, and friends from the philanthropic community to discuss how COVID-19 recovery policies can advance sustainability and environmental health goals in California and beyond.
URL:https://innovation.luskin.ucla.edu/event/adapting-to-the-pandemic-sjv/
ATTACH;FMTTYPE=image/jpeg:https://innovation.luskin.ucla.edu/wp-content/uploads/2020/06/Event-Banne2r.jpg
END:VEVENT
END:VCALENDAR