BEGIN:VCALENDAR
VERSION:2.0
PRODID:-//UCLA Luskin Center for Innovation - ECPv6.15.16//NONSGML v1.0//EN
CALSCALE:GREGORIAN
METHOD:PUBLISH
X-WR-CALNAME:UCLA Luskin Center for Innovation
X-ORIGINAL-URL:https://innovation.luskin.ucla.edu
X-WR-CALDESC:Events for UCLA Luskin Center for Innovation
REFRESH-INTERVAL;VALUE=DURATION:PT1H
X-Robots-Tag:noindex
X-PUBLISHED-TTL:PT1H
BEGIN:VTIMEZONE
TZID:America/Los_Angeles
BEGIN:DAYLIGHT
TZOFFSETFROM:-0800
TZOFFSETTO:-0700
TZNAME:PDT
DTSTART:20200308T100000
END:DAYLIGHT
BEGIN:STANDARD
TZOFFSETFROM:-0700
TZOFFSETTO:-0800
TZNAME:PST
DTSTART:20201101T090000
END:STANDARD
BEGIN:DAYLIGHT
TZOFFSETFROM:-0800
TZOFFSETTO:-0700
TZNAME:PDT
DTSTART:20210314T100000
END:DAYLIGHT
BEGIN:STANDARD
TZOFFSETFROM:-0700
TZOFFSETTO:-0800
TZNAME:PST
DTSTART:20211107T090000
END:STANDARD
BEGIN:DAYLIGHT
TZOFFSETFROM:-0800
TZOFFSETTO:-0700
TZNAME:PDT
DTSTART:20220313T100000
END:DAYLIGHT
BEGIN:STANDARD
TZOFFSETFROM:-0700
TZOFFSETTO:-0800
TZNAME:PST
DTSTART:20221106T090000
END:STANDARD
END:VTIMEZONE
BEGIN:VEVENT
DTSTART;TZID=America/Los_Angeles:20210127T110000
DTEND;TZID=America/Los_Angeles:20210127T121500
DTSTAMP:20260422T153733
CREATED:20210113T205801Z
LAST-MODIFIED:20220511T185936Z
UID:13366-1611745200-1611749700@innovation.luskin.ucla.edu
SUMMARY:Accelerating Clean Energy Transitions
DESCRIPTION:Watch the recorded session here\nView the presentation slides\nCommunity choice in energy is transforming California’s electricity sector while transitioning the Golden State to carbon-free energy and serving as an effective tool for climate action. Community choice aggregators (CCAs) offer communities control over their electricity purchasing decisions. \nJoin us for this webinar\, which features new research on how CCAs have exceeded California’s renewable energy targets and how rapid CCA growth has resulted in investor-owned utilities to also outpace California’s requirements for renewable energy. Then a discussion with energy leaders in California will address opportunities\, concerns\, and recommendations for the future of CCAs\, clean energy policy\, and system reliability in California and beyond. \nPresenters:\n\nKelly Trumbull\, Energy and Climate Project Manager\, UCLA Luskin Center for Innovation\nBeth Vaughan\, Executive Director of CalCCA\n\nPanelists:\n\nAngelina Galiteva\, Chair\, California Independent System Operator\nTom Habashi\, CEO\, Central Coast Community Energy\nEdward Randolph\, Deputy Executive Director for Energy and Climate Policy\, California Public Utilities Commission\nJR DeShazo (Moderator) Director\, UCLA Luskin Center for Innovation
URL:https://innovation.luskin.ucla.edu/event/accelerating-clean-energy-transitions/
LOCATION:Virtual Event
ATTACH;FMTTYPE=image/jpeg:https://innovation.luskin.ucla.edu/wp-content/uploads/2021/01/NewBanner-scaled.jpg
END:VEVENT
BEGIN:VEVENT
DTSTART;TZID=America/Los_Angeles:20210130T120000
DTEND;TZID=America/Los_Angeles:20210130T133000
DTSTAMP:20260422T153733
CREATED:20210122T011001Z
LAST-MODIFIED:20220511T185936Z
UID:13431-1612008000-1612013400@innovation.luskin.ucla.edu
SUMMARY:Covering The Coast
DESCRIPTION:Register Here\nJoin the UCLA Water Resources Group for a conversation about the legacy of ocean pollution on the California coast in an era of climate change and other stressors. \n\nRosanna Xia will discuss her work as an environmental reporter and storyteller for the Los Angeles Times\, including the story she broke in the fall about decades of previously unknown DDT dumping in the Catalina Channel. \nIn the second part of the event\, Mark Gold (Deputy Secretary\, Coast and Oceans\, California Natural Resources Agency) and Sean Hecht (Faculty\, UCLA Law School) will join to discuss the implications of this DDT dumping ground and what can be done about it. Jon Christensen (Professor at the UCLA Institute of Environment and Sustainability) will moderate both conversations. \nZoom link will be emailed to registered attendees prior to the event! \nCo-sponsored by: \nThe Graduate Student Environmental Humanities Research Group at UCLA \nThe Graduate Student Water Resources Group at UCLA \nUCLA Laboratory for Environmental Narrative Strategies (LENS) \nUCLA Water Resource Group at the Institute of the Environment and Sustainability \nUCLA Law School \nUCLA Emmett Institute on Climate Change and the Environment \nHeal the Bay \nSpeaker bios \nRosanna Xia is an environment reporter for the Los Angeles Times. She covers the coast and has written about sea level rise\, toxic dumping and endangered species in the deep ocean. Her stories connect science and policy and have led to new laws and regulations. She was a Pulitzer Prize finalist in 2020 for explanatory reporting. \nMark Gold is Executive Director of OPC and the Deputy Secretary for Ocean and Coastal Policy for the California Natural Resources Agency. He serves as a key advisor to Governor Newsom and the Secretary of Natural Resources and directs policy\, scientific research\, and critical partnerships to increase protection of coastal and ocean resources in California. \nSean B. Hecht is the Co-Executive Director of the Emmett Institute on Climate Change and the Environment\, and Evan Frankel Professor of Policy and Practice\, at UCLA School of Law. He works with students to serve environmental organizations and government agencies in his role as co-director of the Frank G. Wells Environmental Law Clinic. \nJon Christensen teaches and conducts multidisciplinary research at UCLA focusing on equity and the environment\, strategic environmental communication\, and journalism\, media\, and storytelling. He is an adjunct assistant professor in the Institute of the Environment and Sustainability\, Luskin Center for Innovation\, Department of History\, and Center for Digital Humanities at UCLA.
URL:https://innovation.luskin.ucla.edu/event/covering-the-coast/
ATTACH;FMTTYPE=image/jpeg:https://innovation.luskin.ucla.edu/wp-content/uploads/2021/01/cover-the-coast.jpeg
END:VEVENT
END:VCALENDAR