BEGIN:VCALENDAR
VERSION:2.0
PRODID:-//UCLA Luskin Center for Innovation - ECPv6.15.16//NONSGML v1.0//EN
CALSCALE:GREGORIAN
METHOD:PUBLISH
X-WR-CALNAME:UCLA Luskin Center for Innovation
X-ORIGINAL-URL:https://innovation.luskin.ucla.edu
X-WR-CALDESC:Events for UCLA Luskin Center for Innovation
REFRESH-INTERVAL;VALUE=DURATION:PT1H
X-Robots-Tag:noindex
X-PUBLISHED-TTL:PT1H
BEGIN:VTIMEZONE
TZID:America/Los_Angeles
BEGIN:DAYLIGHT
TZOFFSETFROM:-0800
TZOFFSETTO:-0700
TZNAME:PDT
DTSTART:20210314T100000
END:DAYLIGHT
BEGIN:STANDARD
TZOFFSETFROM:-0700
TZOFFSETTO:-0800
TZNAME:PST
DTSTART:20211107T090000
END:STANDARD
BEGIN:DAYLIGHT
TZOFFSETFROM:-0800
TZOFFSETTO:-0700
TZNAME:PDT
DTSTART:20220313T100000
END:DAYLIGHT
BEGIN:STANDARD
TZOFFSETFROM:-0700
TZOFFSETTO:-0800
TZNAME:PST
DTSTART:20221106T090000
END:STANDARD
BEGIN:DAYLIGHT
TZOFFSETFROM:-0800
TZOFFSETTO:-0700
TZNAME:PDT
DTSTART:20230312T100000
END:DAYLIGHT
BEGIN:STANDARD
TZOFFSETFROM:-0700
TZOFFSETTO:-0800
TZNAME:PST
DTSTART:20231105T090000
END:STANDARD
END:VTIMEZONE
BEGIN:VEVENT
DTSTART;TZID=America/Los_Angeles:20220908T070000
DTEND;TZID=America/Los_Angeles:20220908T150000
DTSTAMP:20260419T103554
CREATED:20220715T195311Z
LAST-MODIFIED:20221017T160046Z
UID:18053-1662620400-1662649200@innovation.luskin.ucla.edu
SUMMARY:LABC’S 16th Annual Sustainability Summit
DESCRIPTION:Register\nThe Los Angeles Business Council’s 16th Annual Sustainability Summit is hosted by our partners at the Los Angeles Business Council\, in collaboration with USC President Dr. Carol Folt\, the USC Sol Price School of Public Policy\, the USC Schwarzenegger Institute\, and Los Angeles Mayor Eric Garcetti. \nFeatured and invited speakers include: \n\nWade Crowfoot\, Secretary\, California Natural Resources Agency\nDan Hedigan\, CEO\, FivePoint Holdings\, LLC\nLiane Randolph\, Chair\, California Air Resources Board\nHeather Zichal\, CEO\, American Clean Power Association\n\nThe Sustainability Summit will tackle pressing issues\, including: \n\nRegional momentum toward a clean energy future\nRevitalizing our buildings with carbon-free power\nOutlook and opportunities on water resources and drought\nAchieving a new all-electric transportation sector\nBuilding a successful western transmission grid
URL:https://innovation.luskin.ucla.edu/event/labcs-16th-annual-sustainability-summit/
LOCATION:University of Southern California\, Town & Gown\, 665 W Exposition Blvd\, Los Angeles\, CA\, 90089
ATTACH;FMTTYPE=image/png:https://innovation.luskin.ucla.edu/wp-content/uploads/2022/07/labc-summit-header.png
END:VEVENT
END:VCALENDAR