BEGIN:VCALENDAR
VERSION:2.0
PRODID:-//UCLA Luskin Center for Innovation - ECPv6.15.16//NONSGML v1.0//EN
CALSCALE:GREGORIAN
METHOD:PUBLISH
X-ORIGINAL-URL:https://innovation.luskin.ucla.edu
X-WR-CALDESC:Events for UCLA Luskin Center for Innovation
REFRESH-INTERVAL;VALUE=DURATION:PT1H
X-Robots-Tag:noindex
X-PUBLISHED-TTL:PT1H
BEGIN:VTIMEZONE
TZID:America/Los_Angeles
BEGIN:DAYLIGHT
TZOFFSETFROM:-0800
TZOFFSETTO:-0700
TZNAME:PDT
DTSTART:20230312T100000
END:DAYLIGHT
BEGIN:STANDARD
TZOFFSETFROM:-0700
TZOFFSETTO:-0800
TZNAME:PST
DTSTART:20231105T090000
END:STANDARD
BEGIN:DAYLIGHT
TZOFFSETFROM:-0800
TZOFFSETTO:-0700
TZNAME:PDT
DTSTART:20240310T100000
END:DAYLIGHT
BEGIN:STANDARD
TZOFFSETFROM:-0700
TZOFFSETTO:-0800
TZNAME:PST
DTSTART:20241103T090000
END:STANDARD
BEGIN:DAYLIGHT
TZOFFSETFROM:-0800
TZOFFSETTO:-0700
TZNAME:PDT
DTSTART:20250309T100000
END:DAYLIGHT
BEGIN:STANDARD
TZOFFSETFROM:-0700
TZOFFSETTO:-0800
TZNAME:PST
DTSTART:20251102T090000
END:STANDARD
END:VTIMEZONE
BEGIN:VEVENT
DTSTART;TZID=America/Los_Angeles:20240510T073000
DTEND;TZID=America/Los_Angeles:20240510T153000
DTSTAMP:20260420T143522
CREATED:20240429T051536Z
LAST-MODIFIED:20240429T051536Z
UID:23250-1715326200-1715355000@innovation.luskin.ucla.edu
SUMMARY:The 22nd Annual LABC Mayoral Housing\, Transportation and Jobs Summit: Solutions for a More Livable Future
DESCRIPTION:Following significant policy changes in the past year to housing\, homelessness and mobility sectors at the local\, regional and state levels\, this year’s LABC Mayoral Housing Transportation & Jobs Summit will bring together top officials and business leaders to analyze these changes and chart the path forward to improve the livability and economic competitiveness of our region and state. \n\n\n\n\n\n\n\nRegister\nJoin us as we discuss\n\nMayoral actions to combat the housing and homelessness crises in cities across California\nInnovative mental health approaches addressing homelessness\nStreamlining the development process to increase needed housing production\nShaping the future of mobility in L.A. leading up to the ’26 World Cup\, ’27 Superbowl and ’28 Olympics\n\nSchedule\n\n7am : Breakfast & Registration\n8am – 3:30pm : Program
URL:https://innovation.luskin.ucla.edu/event/the-22nd-annual-labc-mayoral-housing-transportation-and-jobs-summit-solutions-for-a-more-livable-future/
LOCATION:UCLA Meyer & Renee Luskin Conference Center\, 425 Westwood Plaza\, Los Angeles\, CA\, 90095\, United States
ATTACH;FMTTYPE=image/jpeg:https://innovation.luskin.ucla.edu/wp-content/uploads/2024/04/Register-Now-SM-Speakers-1.jpg
END:VEVENT
END:VCALENDAR